BEGIN:VCALENDAR
VERSION:2.0
PRODID:-//Sidney BIA - ECPv6.15.20//NONSGML v1.0//EN
CALSCALE:GREGORIAN
METHOD:PUBLISH
X-WR-CALNAME:Sidney BIA
X-ORIGINAL-URL:https://www.exploresidney.ca
X-WR-CALDESC:Events for Sidney BIA
REFRESH-INTERVAL;VALUE=DURATION:PT1H
X-Robots-Tag:noindex
X-PUBLISHED-TTL:PT1H
BEGIN:VTIMEZONE
TZID:America/Vancouver
BEGIN:DAYLIGHT
TZOFFSETFROM:-0800
TZOFFSETTO:-0700
TZNAME:PDT
DTSTART:20240310T100000
END:DAYLIGHT
BEGIN:STANDARD
TZOFFSETFROM:-0700
TZOFFSETTO:-0800
TZNAME:PST
DTSTART:20241103T090000
END:STANDARD
BEGIN:DAYLIGHT
TZOFFSETFROM:-0800
TZOFFSETTO:-0700
TZNAME:PDT
DTSTART:20250309T100000
END:DAYLIGHT
BEGIN:STANDARD
TZOFFSETFROM:-0700
TZOFFSETTO:-0800
TZNAME:PST
DTSTART:20251102T090000
END:STANDARD
BEGIN:DAYLIGHT
TZOFFSETFROM:-0800
TZOFFSETTO:-0700
TZNAME:PDT
DTSTART:20260308T100000
END:DAYLIGHT
BEGIN:STANDARD
TZOFFSETFROM:-0700
TZOFFSETTO:-0800
TZNAME:PST
DTSTART:20261101T090000
END:STANDARD
END:VTIMEZONE
BEGIN:VEVENT
DTSTART;TZID=America/Vancouver:20250505T100000
DTEND;TZID=America/Vancouver:20251130T160000
DTSTAMP:20260424T093615
CREATED:20250506T172053Z
LAST-MODIFIED:20250506T172053Z
UID:25161-1746439200-1764518400@www.exploresidney.ca
SUMMARY:Health in Space Exhibit at Sidney Museum
DESCRIPTION:Health in Space: Daring to Explore is developed by the Canada Aviation and Space Museum\, part of Ingenium – Canada’s Museums of Science and Innovation\, in collaboration with the Canadian Space Agency. \nThe exhibit also features exclusive video interviews with Canadian astronauts\, including a special section dedicated to astronaut David Saint-Jacques’ recent mission. It will cover everything from his selection and rigorous training to the groundbreaking experiments he conducted while aboard the International Space Station (ISS). \n  \n 
URL:https://www.exploresidney.ca/event/health-in-space-exhibit-at-sidney-museum/
LOCATION:Sidney Museum and Archives\, 2423 Beacon Ave\, SIDNEY\, BC\, V8L 1X5\, Canada
ATTACH;FMTTYPE=image/png:https://www.exploresidney.ca/wp-content/uploads/2025/05/Sidney-Museum-Health-in-Space-Poster.png
END:VEVENT
BEGIN:VEVENT
DTSTART;VALUE=DATE:20250705
DTEND;VALUE=DATE:20250901
DTSTAMP:20260424T093615
CREATED:20250618T192149Z
LAST-MODIFIED:20250618T192149Z
UID:25935-1751673600-1756684799@www.exploresidney.ca
SUMMARY:Port Sidney Marina Tall Ship Tours
DESCRIPTION:Looking for a unique way to spend a summer day? Step aboard Providence\, an 80’ historical tall ship for a calm cruise on the ocean. The welcoming crew will take you on a casual and fun sailing experience. Take advantage of the opportunity to help hoist the sails or sit back\, relax and enjoy the beautiful views. Food & Beverages not included. Please feel free to bring your own cooler with picnic. We also recommend bringing a water bottle and a sweater / blanket (as it can get cool on the water). \n3 HR Afternoon\, 2 HR Sunset Cruises and Multi-Day Gulf Island Trips (Sidney to Pender Island to Salt Spring Island). Charter the boat for your private group (up to 24 ppl).
URL:https://www.exploresidney.ca/event/port-sidney-marina-tall-ship-tours-5/
LOCATION:Port Sidney Marina\, 9835 Seaport Place\, Sidney\, V8L 4X3\, Canada
ATTACH;FMTTYPE=image/jpeg:https://www.exploresidney.ca/wp-content/uploads/2025/06/SIDNEYXPROVIDENCE-146-scaled.jpg
ORGANIZER;CN="Port Sidney Marina":MAILTO:admin@portsidney.com
END:VEVENT
BEGIN:VEVENT
DTSTART;TZID=America/Vancouver:20250718T100000
DTEND;TZID=America/Vancouver:20250724T160000
DTSTAMP:20260424T093615
CREATED:20250606T215055Z
LAST-MODIFIED:20250606T215144Z
UID:25735-1752832800-1753372800@www.exploresidney.ca
SUMMARY:'For The Love of Roses' Artshow
DESCRIPTION:Artsea Gallery at Tulista Park\, will be alive with the wonder of roses July 18 -24\, when Salt Spring Island artist Susan Haigh presents a solo show titled ‘For the Love of Roses’. This is a retrospective exhibition of Rose paintings spanning 20 years. From the very much larger than life ‘Rosa Grande’ at 48” x 36” to an intimate 8” x 8” painting on canvas called ‘Precious’\, the show will celebrate the beauty of the rose. \nThere will be an opening reception July 18 from 4:30 until 6:30. The artist will also be in attendance at the gallery 10 am to 4pm each day.
URL:https://www.exploresidney.ca/event/exhibition-of-rose-paintings-at-artsea-gallery-in-july/
LOCATION:ArtSea Gallery in Tulista Park\, 9565 Fifth Street\, Sidney\, British Columbia\, Canada
ATTACH;FMTTYPE=image/jpeg:https://www.exploresidney.ca/wp-content/uploads/2025/06/rose-poster4.jpg
END:VEVENT
BEGIN:VEVENT
DTSTART;TZID=America/Vancouver:20250723T090000
DTEND;TZID=America/Vancouver:20250723T110000
DTSTAMP:20260424T093615
CREATED:20250524T171840Z
LAST-MODIFIED:20250524T171840Z
UID:25532-1753261200-1753268400@www.exploresidney.ca
SUMMARY:Glass Beach Low-Tide Exploration — Drop-In
DESCRIPTION:Do you know your rockweed from your sea cauliflower? Your gunnels from your sculpins? Have you witnessed a fish that clings?! \nLow-tide learning with our educators! \nEducators will demonstrate beach exploration etiquette to keep you and the marine life safe. \nWHERE: Glass Beach — Look for drop-in beach program signage on the Sidney waterfront near the scuba diver statue. \nWHEN: Wednesday\, July 23\, 9:00am – 11:00am
URL:https://www.exploresidney.ca/event/glass-beach-low-tide-exploration-drop-in-2/
LOCATION:Glass Beach\, 2533 Beacon Ave W\, Sidney\, BC\, V8L 1Y2\, Canada
ORGANIZER;CN="Shaw Centre for the Salish Sea":MAILTO:info@salishseacentre.org
END:VEVENT
BEGIN:VEVENT
DTSTART;TZID=America/Vancouver:20250723T173000
DTEND;TZID=America/Vancouver:20250723T200000
DTSTAMP:20260424T093615
CREATED:20250506T180800Z
LAST-MODIFIED:20250506T180800Z
UID:25171-1753291800-1753300800@www.exploresidney.ca
SUMMARY:Play in the Park @ Tulista Park
DESCRIPTION:Join Panorama for a summer full of FREE fun! Enjoy interactive play\, group games\, and the excitement of our giant 50’ inflatable obstacle course*. It’s the perfect way to get active and have fun together! \n*Must be 36″tall to ride the obstacle course. \n\nJuly 23\, 2025\, 5:30 – 8:00pm\nJuly 30\, 2025\, 5:30 – 8:00pm\nAugust 6\, 2025\, 5:30 – 8:00pm\nAugust 13\, 2025\, 5:30 – 8:00pm\nAugust 20\, 2025\, 5:30 – 8:00pm\nAugust 27\, 2025\, 5:30 – 8:00pm
URL:https://www.exploresidney.ca/event/play-in-the-park-tulista-park-4/
LOCATION:Tulista Park\, 9565 5th Street\, Sidney\, British Columbia\, V8L 2W5\, Canada
END:VEVENT
BEGIN:VEVENT
DTSTART;TZID=America/Vancouver:20250723T180000
DTEND;TZID=America/Vancouver:20250723T190000
DTSTAMP:20260424T093615
CREATED:20250509T203704Z
LAST-MODIFIED:20250509T203704Z
UID:25254-1753293600-1753297200@www.exploresidney.ca
SUMMARY:Free Yoga @ Tulista Park
DESCRIPTION:This outside\, free Hatha Yoga class will bring awareness of breath in combination with traditional yoga poses. All levels welcome. Children under 12 years require guardian supervision. Weather dependent. Please bring your own mat.\n\n\nJuly 23\, 2025\, 6:00 – 7:00pm\nJuly 30\, 2025\, 6:00 – 7:00pm\nAugust 6\, 2025\, 6:00 – 7:00pm\nAugust 13\, 2025\, 6:00 – 7:00pm\nAugust 20\, 2025\, 6:00 – 7:00pm\nAugust 27\, 2025\, 6:00 – 7:00pm
URL:https://www.exploresidney.ca/event/free-yoga-tulista-park/
LOCATION:Tulista Park\, 9565 5th Street\, Sidney\, British Columbia\, V8L 2W5\, Canada
END:VEVENT
END:VCALENDAR