BEGIN:VCALENDAR
VERSION:2.0
PRODID:-//Sidney BIA - ECPv6.15.20//NONSGML v1.0//EN
CALSCALE:GREGORIAN
METHOD:PUBLISH
X-ORIGINAL-URL:https://www.exploresidney.ca
X-WR-CALDESC:Events for Sidney BIA
REFRESH-INTERVAL;VALUE=DURATION:PT1H
X-Robots-Tag:noindex
X-PUBLISHED-TTL:PT1H
BEGIN:VTIMEZONE
TZID:America/Vancouver
BEGIN:DAYLIGHT
TZOFFSETFROM:-0800
TZOFFSETTO:-0700
TZNAME:PDT
DTSTART:20240310T100000
END:DAYLIGHT
BEGIN:STANDARD
TZOFFSETFROM:-0700
TZOFFSETTO:-0800
TZNAME:PST
DTSTART:20241103T090000
END:STANDARD
BEGIN:DAYLIGHT
TZOFFSETFROM:-0800
TZOFFSETTO:-0700
TZNAME:PDT
DTSTART:20250309T100000
END:DAYLIGHT
BEGIN:STANDARD
TZOFFSETFROM:-0700
TZOFFSETTO:-0800
TZNAME:PST
DTSTART:20251102T090000
END:STANDARD
BEGIN:DAYLIGHT
TZOFFSETFROM:-0800
TZOFFSETTO:-0700
TZNAME:PDT
DTSTART:20260308T100000
END:DAYLIGHT
BEGIN:STANDARD
TZOFFSETFROM:-0700
TZOFFSETTO:-0800
TZNAME:PST
DTSTART:20261101T090000
END:STANDARD
END:VTIMEZONE
BEGIN:VEVENT
DTSTART;TZID=America/Vancouver:20250505T100000
DTEND;TZID=America/Vancouver:20251130T160000
DTSTAMP:20260422T205838
CREATED:20250506T172053Z
LAST-MODIFIED:20250506T172053Z
UID:25161-1746439200-1764518400@www.exploresidney.ca
SUMMARY:Health in Space Exhibit at Sidney Museum
DESCRIPTION:Health in Space: Daring to Explore is developed by the Canada Aviation and Space Museum\, part of Ingenium – Canada’s Museums of Science and Innovation\, in collaboration with the Canadian Space Agency. \nThe exhibit also features exclusive video interviews with Canadian astronauts\, including a special section dedicated to astronaut David Saint-Jacques’ recent mission. It will cover everything from his selection and rigorous training to the groundbreaking experiments he conducted while aboard the International Space Station (ISS). \n  \n 
URL:https://www.exploresidney.ca/event/health-in-space-exhibit-at-sidney-museum/
LOCATION:Sidney Museum and Archives\, 2423 Beacon Ave\, SIDNEY\, BC\, V8L 1X5\, Canada
ATTACH;FMTTYPE=image/png:https://www.exploresidney.ca/wp-content/uploads/2025/05/Sidney-Museum-Health-in-Space-Poster.png
END:VEVENT
BEGIN:VEVENT
DTSTART;VALUE=DATE:20250705
DTEND;VALUE=DATE:20250901
DTSTAMP:20260422T205838
CREATED:20250618T192149Z
LAST-MODIFIED:20250618T192149Z
UID:25935-1751673600-1756684799@www.exploresidney.ca
SUMMARY:Port Sidney Marina Tall Ship Tours
DESCRIPTION:Looking for a unique way to spend a summer day? Step aboard Providence\, an 80’ historical tall ship for a calm cruise on the ocean. The welcoming crew will take you on a casual and fun sailing experience. Take advantage of the opportunity to help hoist the sails or sit back\, relax and enjoy the beautiful views. Food & Beverages not included. Please feel free to bring your own cooler with picnic. We also recommend bringing a water bottle and a sweater / blanket (as it can get cool on the water). \n3 HR Afternoon\, 2 HR Sunset Cruises and Multi-Day Gulf Island Trips (Sidney to Pender Island to Salt Spring Island). Charter the boat for your private group (up to 24 ppl).
URL:https://www.exploresidney.ca/event/port-sidney-marina-tall-ship-tours-5/
LOCATION:Port Sidney Marina\, 9835 Seaport Place\, Sidney\, V8L 4X3\, Canada
ATTACH;FMTTYPE=image/jpeg:https://www.exploresidney.ca/wp-content/uploads/2025/06/SIDNEYXPROVIDENCE-146-scaled.jpg
ORGANIZER;CN="Port Sidney Marina":MAILTO:admin@portsidney.com
END:VEVENT
BEGIN:VEVENT
DTSTART;TZID=America/Vancouver:20250808T100000
DTEND;TZID=America/Vancouver:20250814T160000
DTSTAMP:20260422T205838
CREATED:20250729T184020Z
LAST-MODIFIED:20250729T184410Z
UID:26511-1754647200-1755187200@www.exploresidney.ca
SUMMARY:The Wild and the Cultivated Artshow
DESCRIPTION:Exhibition Details: The Wild and the Cultivated is a collective show and sale featuring the work of three artists across different mediums. With pottery by Sonia Lesage\, jewellery by Busted Button\, and paintings by Arabella Young. These artists explore the wild and cultivated world around us. \nSonia creates earthy\, functional pottery with a soft\, west coast-inspired palette. Her simple forms and quiet designs reflect the subtle textures and rhythms of nature. Dot\, of Busted Button\, makes unique jewellery using dried flowers and playful elements that celebrate local landscapes and gardens. Arabella paints both the wild beauty of Vancouver and Vancouver Island\, and florals cultivated from her own garden. \nCome visit this unique collaboration and experience the latest work by these three artists.
URL:https://www.exploresidney.ca/event/the-wild-and-the-cultivated-art-show-and-sale/
LOCATION:ArtSea Gallery in Tulista Park\, 9565 Fifth Street\, Sidney\, British Columbia\, Canada
ATTACH;FMTTYPE=image/png:https://www.exploresidney.ca/wp-content/uploads/2025/07/show-poster-2025-the-wild-and-the-cultivated.png
ORGANIZER;CN="ArtSea Community Arts Council":MAILTO:artseagallery@artsea.ca
END:VEVENT
BEGIN:VEVENT
DTSTART;TZID=America/Vancouver:20250811T183000
DTEND;TZID=America/Vancouver:20250811T200000
DTSTAMP:20260422T205838
CREATED:20250708T192705Z
LAST-MODIFIED:20250708T192726Z
UID:26243-1754937000-1754942400@www.exploresidney.ca
SUMMARY:Virtual Gardening Series – Greenhouse Gardening
DESCRIPTION:Monday\, August 11\, 2025. (Time: 6:30 pm – 8:00 pm) \n\n\n\n\n\nThis is a FREE course that will take place virtually on Zoom. *Please REGISTER HERE to receive the link and event material & updates. \nLearn all about greenhouse gardening with Master Gardener Richard Bernier. \n\n\n\nABOUT THE PRESENTER: \nRichard Bernier’s gardening hobby started as a preteen when one of his elderly neighbours hired him (his first job) to help them in their garden. They showed him what plants were weeds and directed him to a vegetable garden that was in dire need of weeding.  He gardened on and off until his teens when he discovered indoor plants. \nABOUT VIMGA: \nThe Vancouver Island Master Gardeners Association (VIMGA) is a chapter of the Master Gardeners Association\, an international service society of specially trained volunteers who teach science-based sustainable gardening practices to home gardeners. VIMGA is one of the 5 chapters in the British Columbia Association and partnering with the Victoria chapter\, specializes in the stewardship of Vancouver Island’s unique environment.
URL:https://www.exploresidney.ca/event/virtual-gardening-series-greenhouse-gardening/
LOCATION:Virtual Meeting on Zoom\, www.Tinyurl.com/SAN-Community-Meeting
END:VEVENT
END:VCALENDAR