BEGIN:VCALENDAR
VERSION:2.0
PRODID:-//Sidney BIA - ECPv6.15.20//NONSGML v1.0//EN
CALSCALE:GREGORIAN
METHOD:PUBLISH
X-WR-CALNAME:Sidney BIA
X-ORIGINAL-URL:https://www.exploresidney.ca
X-WR-CALDESC:Events for Sidney BIA
REFRESH-INTERVAL;VALUE=DURATION:PT1H
X-Robots-Tag:noindex
X-PUBLISHED-TTL:PT1H
BEGIN:VTIMEZONE
TZID:America/Vancouver
BEGIN:DAYLIGHT
TZOFFSETFROM:-0800
TZOFFSETTO:-0700
TZNAME:PDT
DTSTART:20240310T100000
END:DAYLIGHT
BEGIN:STANDARD
TZOFFSETFROM:-0700
TZOFFSETTO:-0800
TZNAME:PST
DTSTART:20241103T090000
END:STANDARD
BEGIN:DAYLIGHT
TZOFFSETFROM:-0800
TZOFFSETTO:-0700
TZNAME:PDT
DTSTART:20250309T100000
END:DAYLIGHT
BEGIN:STANDARD
TZOFFSETFROM:-0700
TZOFFSETTO:-0800
TZNAME:PST
DTSTART:20251102T090000
END:STANDARD
BEGIN:DAYLIGHT
TZOFFSETFROM:-0800
TZOFFSETTO:-0700
TZNAME:PDT
DTSTART:20260308T100000
END:DAYLIGHT
BEGIN:STANDARD
TZOFFSETFROM:-0700
TZOFFSETTO:-0800
TZNAME:PST
DTSTART:20261101T090000
END:STANDARD
END:VTIMEZONE
BEGIN:VEVENT
DTSTART;TZID=America/Vancouver:20250505T100000
DTEND;TZID=America/Vancouver:20251130T160000
DTSTAMP:20260422T175638
CREATED:20250506T172053Z
LAST-MODIFIED:20250506T172053Z
UID:25161-1746439200-1764518400@www.exploresidney.ca
SUMMARY:Health in Space Exhibit at Sidney Museum
DESCRIPTION:Health in Space: Daring to Explore is developed by the Canada Aviation and Space Museum\, part of Ingenium – Canada’s Museums of Science and Innovation\, in collaboration with the Canadian Space Agency. \nThe exhibit also features exclusive video interviews with Canadian astronauts\, including a special section dedicated to astronaut David Saint-Jacques’ recent mission. It will cover everything from his selection and rigorous training to the groundbreaking experiments he conducted while aboard the International Space Station (ISS). \n  \n 
URL:https://www.exploresidney.ca/event/health-in-space-exhibit-at-sidney-museum/
LOCATION:Sidney Museum and Archives\, 2423 Beacon Ave\, SIDNEY\, BC\, V8L 1X5\, Canada
ATTACH;FMTTYPE=image/png:https://www.exploresidney.ca/wp-content/uploads/2025/05/Sidney-Museum-Health-in-Space-Poster.png
END:VEVENT
BEGIN:VEVENT
DTSTART;VALUE=DATE:20250705
DTEND;VALUE=DATE:20250901
DTSTAMP:20260422T175638
CREATED:20250618T192149Z
LAST-MODIFIED:20250618T192149Z
UID:25935-1751673600-1756684799@www.exploresidney.ca
SUMMARY:Port Sidney Marina Tall Ship Tours
DESCRIPTION:Looking for a unique way to spend a summer day? Step aboard Providence\, an 80’ historical tall ship for a calm cruise on the ocean. The welcoming crew will take you on a casual and fun sailing experience. Take advantage of the opportunity to help hoist the sails or sit back\, relax and enjoy the beautiful views. Food & Beverages not included. Please feel free to bring your own cooler with picnic. We also recommend bringing a water bottle and a sweater / blanket (as it can get cool on the water). \n3 HR Afternoon\, 2 HR Sunset Cruises and Multi-Day Gulf Island Trips (Sidney to Pender Island to Salt Spring Island). Charter the boat for your private group (up to 24 ppl).
URL:https://www.exploresidney.ca/event/port-sidney-marina-tall-ship-tours-5/
LOCATION:Port Sidney Marina\, 9835 Seaport Place\, Sidney\, V8L 4X3\, Canada
ATTACH;FMTTYPE=image/jpeg:https://www.exploresidney.ca/wp-content/uploads/2025/06/SIDNEYXPROVIDENCE-146-scaled.jpg
ORGANIZER;CN="Port Sidney Marina":MAILTO:admin@portsidney.com
END:VEVENT
BEGIN:VEVENT
DTSTART;TZID=America/Vancouver:20250817T080000
DTEND;TZID=America/Vancouver:20250823T170000
DTSTAMP:20260422T175638
CREATED:20250516T174309Z
LAST-MODIFIED:20250516T174309Z
UID:25443-1755417600-1755968400@www.exploresidney.ca
SUMMARY:Salish Sea Lantern Festival
DESCRIPTION:Experience the magic of the Salish Sea Lantern Festival\, a week-long celebration of art\, culture\, light\, and community from August 17-23\, 2025. The Week of Lanterns invites you to join interactive workshops\, explore lantern creations by local artists\, community members\, and organizations. Marvel at captivating large-scale lantern displays around the Peninsula inspired by creatures from the Salish Sea\, brought to life by the talented festival team. \nThe festivities culminate on August 23 with the Evening Festival\, featuring live performances\, family-friendly activities\, costumed characters\, and an invitation for everyone to join in a breathtaking lantern procession along the waterfront. Don’t miss this unforgettable celebration of creativity\, community\, and the natural wonders of the Salish Sea! \nEvening Festival: August 23\, @ 6:30pm. At Beacon Park.
URL:https://www.exploresidney.ca/event/salish-sea-lantern-festival-2/
LOCATION:Beacon Park\, 9801 Seaport Place\, Sidney\, V8L 4X3
ATTACH;FMTTYPE=application/pdf:https://www.exploresidney.ca/wp-content/uploads/2025/05/2025-Salish-Sea-Lantern-Festival-8.5X11.pdf
END:VEVENT
BEGIN:VEVENT
DTSTART;TZID=America/Vancouver:20250822T100000
DTEND;TZID=America/Vancouver:20250828T160000
DTSTAMP:20260422T175638
CREATED:20250813T204508Z
LAST-MODIFIED:20250813T204508Z
UID:26706-1755856800-1756396800@www.exploresidney.ca
SUMMARY:Nature’s Attraction Artshow
DESCRIPTION:Exhibition Details: The ArtSea Gallery will be displaying two visual artists who will be selling paintings\, cards\, and fabric art wall hangings. Margo Styan’s fabric art consists of memories from her life including from her 2 decades spent in the Yukon\, now with many west coast influences. Many of the fabrics were hand-dyed by her husband\, and they continue to work together more and more. And Faith Livingstone’s impressionist style reflects her love of colour and whimsy. She has\, over the years\, worked in pastels\, oils\, mixed media\, watercolours and alcohol inks. She is currently working mainly in acrylics. Her subjects vary from landscapes to portraits\, to florals. Faith’s art has been juried into art shows in Winnipeg\, Manitoba (Winnipeg Sketch Club) Vancouver Island (Sooke Fine Arts Show and Victoria Federation of Canadian Artists) and the BC Interior (Federation of Canadian Artists OASIS and The Lake Country Art Walk). Faith has also had a number of successful shows in Victoria and Sidney BC. Many of her paintings are in private collections throughout western Canada. \nShow Times: 10am – 4pm\, daily August 22 – 28 \nParticipants: Margo Styan & Faith Livingstone
URL:https://www.exploresidney.ca/event/natures-attraction-artshow/
LOCATION:ArtSea Gallery in Tulista Park\, 9565 Fifth Street\, Sidney\, British Columbia\, Canada
ATTACH;FMTTYPE=image/jpeg:https://www.exploresidney.ca/wp-content/uploads/2025/08/ArtSea-Gallery-Aug-22-28-2025-1-scaled-1.jpg
END:VEVENT
BEGIN:VEVENT
DTSTART;VALUE=DATE:20250823
DTEND;VALUE=DATE:20250825
DTSTAMP:20260422T175638
CREATED:20250717T175738Z
LAST-MODIFIED:20250717T175738Z
UID:26335-1755907200-1756079999@www.exploresidney.ca
SUMMARY:Open House (Hanger Fest) @ BC Aviation Museum
DESCRIPTION:Excited to announce that this years Open House (Hangar Fest) will be August 23 & 24 weekend!\n\nThis annual admission by donation event does not just showcase the BC Aviation Museum\, but our countless other community partners. Come by to see displays from other museums\, community organizations\, parachuters and food trucks! It is sure to be fun for the whole family. There will be more updates to come!\n\n\n\nSpecial thanks to Heath Moffatt for the photograph for this years poster. This image is from the Hawaii Mars final flight on August 11th 2024.
URL:https://www.exploresidney.ca/event/open-house-hanger-fest-bc-aviation-museum/
LOCATION:BC Aviation Museum\, 1910 Norseman Rd\, North Saanich\, British Columbia\, V8L 5V5\, Canada
ATTACH;FMTTYPE=image/jpeg:https://www.exploresidney.ca/wp-content/uploads/2025/07/518959806_1057123699731137_8524407160159452391_n.jpg
END:VEVENT
BEGIN:VEVENT
DTSTART;TZID=America/Vancouver:20250823T183000
DTEND;TZID=America/Vancouver:20250823T210000
DTSTAMP:20260422T175638
CREATED:20250821T214326Z
LAST-MODIFIED:20250821T214326Z
UID:26809-1755973800-1755982800@www.exploresidney.ca
SUMMARY:2025 Salish Sea Lantern Festival
DESCRIPTION:The festivities culminate on August 23 with the Evening Festival\, featuring live performances\, family-friendly activities\, costumed characters\, and an invitation for everyone to join in a breathtaking lantern procession along the waterfront. Don’t miss this unforgettable celebration of creativity\, community\, and the natural wonders of the Salish Sea!
URL:https://www.exploresidney.ca/event/2025-salish-sea-lantern-festival/
LOCATION:Sidney Waterfront\, 15 - 2235 Harbour Rd.\, Sidney\, V8L 2P7\, Canada
END:VEVENT
END:VCALENDAR