BEGIN:VCALENDAR
VERSION:2.0
PRODID:-//Sidney BIA - ECPv6.15.20//NONSGML v1.0//EN
CALSCALE:GREGORIAN
METHOD:PUBLISH
X-WR-CALNAME:Sidney BIA
X-ORIGINAL-URL:https://www.exploresidney.ca
X-WR-CALDESC:Events for Sidney BIA
REFRESH-INTERVAL;VALUE=DURATION:PT1H
X-Robots-Tag:noindex
X-PUBLISHED-TTL:PT1H
BEGIN:VTIMEZONE
TZID:America/Vancouver
BEGIN:DAYLIGHT
TZOFFSETFROM:-0800
TZOFFSETTO:-0700
TZNAME:PDT
DTSTART:20240310T100000
END:DAYLIGHT
BEGIN:STANDARD
TZOFFSETFROM:-0700
TZOFFSETTO:-0800
TZNAME:PST
DTSTART:20241103T090000
END:STANDARD
BEGIN:DAYLIGHT
TZOFFSETFROM:-0800
TZOFFSETTO:-0700
TZNAME:PDT
DTSTART:20250309T100000
END:DAYLIGHT
BEGIN:STANDARD
TZOFFSETFROM:-0700
TZOFFSETTO:-0800
TZNAME:PST
DTSTART:20251102T090000
END:STANDARD
BEGIN:DAYLIGHT
TZOFFSETFROM:-0800
TZOFFSETTO:-0700
TZNAME:PDT
DTSTART:20260308T100000
END:DAYLIGHT
BEGIN:STANDARD
TZOFFSETFROM:-0700
TZOFFSETTO:-0800
TZNAME:PST
DTSTART:20261101T090000
END:STANDARD
END:VTIMEZONE
BEGIN:VEVENT
DTSTART;TZID=America/Vancouver:20250505T100000
DTEND;TZID=America/Vancouver:20251130T160000
DTSTAMP:20260423T012739
CREATED:20250506T172053Z
LAST-MODIFIED:20250506T172053Z
UID:25161-1746439200-1764518400@www.exploresidney.ca
SUMMARY:Health in Space Exhibit at Sidney Museum
DESCRIPTION:Health in Space: Daring to Explore is developed by the Canada Aviation and Space Museum\, part of Ingenium – Canada’s Museums of Science and Innovation\, in collaboration with the Canadian Space Agency. \nThe exhibit also features exclusive video interviews with Canadian astronauts\, including a special section dedicated to astronaut David Saint-Jacques’ recent mission. It will cover everything from his selection and rigorous training to the groundbreaking experiments he conducted while aboard the International Space Station (ISS). \n  \n 
URL:https://www.exploresidney.ca/event/health-in-space-exhibit-at-sidney-museum/
LOCATION:Sidney Museum and Archives\, 2423 Beacon Ave\, SIDNEY\, BC\, V8L 1X5\, Canada
ATTACH;FMTTYPE=image/png:https://www.exploresidney.ca/wp-content/uploads/2025/05/Sidney-Museum-Health-in-Space-Poster.png
END:VEVENT
BEGIN:VEVENT
DTSTART;VALUE=DATE:20250905
DTEND;VALUE=DATE:20250907
DTSTAMP:20260423T012739
CREATED:20250821T213540Z
LAST-MODIFIED:20250821T213540Z
UID:26803-1757030400-1757203199@www.exploresidney.ca
SUMMARY:9th Annual Port Sidney Marina Salmon Tournament
DESCRIPTION:SCHEDULE \nFRIDAY: 4PM-7PM – Welcome gathering. Smokies\, prizes\, pick-up your skipper’s package. \nSATURDAY: Dawn – 5pm (scale open at 7am). Awards and Prizes to follow. Tons of great draw prizes! \nRULES: \n\nMust hold a valid Fishing License\nAll DFO Regulations Apply\nIn the event of a tie the first fish weighed in wins\nMust be on the list to weigh in a fish\nMust be in attendance to win draw prizes\n\n1st PRIZE – $5\,000 \n2nd PRIZE – $1\,000 \n3rd PRIZE – $500 \nTICKETS: $200 / Rod (click the link below or call the office)
URL:https://www.exploresidney.ca/event/9th-annual-port-sidney-marina-salmon-tournament/
LOCATION:Port Sidney Marina\, 9835 Seaport Place\, Sidney\, V8L 4X3\, Canada
ATTACH;FMTTYPE=image/webp:https://www.exploresidney.ca/wp-content/uploads/2025/08/PSMDerbyPoster5x5in.webp
END:VEVENT
BEGIN:VEVENT
DTSTART;TZID=America/Vancouver:20250905T100000
DTEND;TZID=America/Vancouver:20250911T160000
DTSTAMP:20260423T012739
CREATED:20250821T214639Z
LAST-MODIFIED:20250821T214639Z
UID:26811-1757066400-1757606400@www.exploresidney.ca
SUMMARY:West Coast Tugboat Project Show
DESCRIPTION:Show Times: 10am – 4pm\, daily September 5-11 \nParticipants: Christina Morrison \nThe 5th Annual West Coast Tug Project Show at the ArtSea Gallery located in Tulista Park at 9565 Fifth St\, Sidney\, BC. \nIt is artist Christina Morrison’s goal to paint all of the Tug Boats on the West Coast of BC. Over 575 on her list so far! We live on an Island\, Tug Boats are essential to our existence and she wants this project to be a part of our Maritime History. \nChristina will be on-site painting every day over the 1 week period. This project is a collaboration of many marine photographers who have given permission for the use of their photos as reference for Christina to create these paintings as these are work boats and she wanted to be able to paint them working.
URL:https://www.exploresidney.ca/event/west-coast-tugboat-project-show/
LOCATION:ArtSea Gallery in Tulista Park\, 9565 Fifth Street\, Sidney\, British Columbia\, Canada
ATTACH;FMTTYPE=image/jpeg:https://www.exploresidney.ca/wp-content/uploads/2025/08/Morrison-Exhibition-Poster-20250905-8.5x11-v01.jpg
END:VEVENT
BEGIN:VEVENT
DTSTART;TZID=America/Vancouver:20250905T103000
DTEND;TZID=America/Vancouver:20250907T163000
DTSTAMP:20260423T012739
CREATED:20250722T193421Z
LAST-MODIFIED:20250722T193421Z
UID:26396-1757068200-1757262600@www.exploresidney.ca
SUMMARY:ACBL Victoria Fall Sectional
DESCRIPTION:American Contract Bridge League \nSeptember 5th – 7th\, 2025 \n\n\n\n\n\n\n\n\nFor more information visit their website here
URL:https://www.exploresidney.ca/event/acbl-victoria-fall-sectional/
LOCATION:The Mary Winspear Centre\, 2243 Beacon Ave\, Sidney\, BC\, V8L 1W9\, Canada
ATTACH;FMTTYPE=application/pdf:https://www.exploresidney.ca/wp-content/uploads/2025/07/2509327.pdf
END:VEVENT
BEGIN:VEVENT
DTSTART;TZID=America/Vancouver:20250905T170000
DTEND;TZID=America/Vancouver:20250905T193000
DTSTAMP:20260423T012739
CREATED:20250529T215724Z
LAST-MODIFIED:20250529T215851Z
UID:25623-1757091600-1757100600@www.exploresidney.ca
SUMMARY:Rock or Bust Performance
DESCRIPTION:ROCK OR BUST – The ultimate AC/DC tribute band\, has played sold out shows from northern BC and Alberta to rock crowds as far away as Los Cabos\, Mexico performing in casinos\, theatres\, arenas\, and outdoor festivals. The band consists of the finest musicians portraying the original AC/DC band members to deliver the look and the sound of the real deal complete with cannons and of course\, the Bell. It’s one powerful show you won’t want to miss! Come and enjoy the ultimate AC/DC experience. \n\n\n\n\nFriday\, September 5pm – 7:30 pm
URL:https://www.exploresidney.ca/event/rock-or-bust-performance/
LOCATION:The Mary Winspear Centre\, 2243 Beacon Ave\, Sidney\, BC\, V8L 1W9\, Canada
ATTACH;FMTTYPE=image/jpeg:https://www.exploresidney.ca/wp-content/uploads/2025/05/unnamed-1.jpg
END:VEVENT
END:VCALENDAR