BEGIN:VCALENDAR
VERSION:2.0
PRODID:-//Sidney BIA - ECPv6.15.20//NONSGML v1.0//EN
CALSCALE:GREGORIAN
METHOD:PUBLISH
X-ORIGINAL-URL:https://www.exploresidney.ca
X-WR-CALDESC:Events for Sidney BIA
REFRESH-INTERVAL;VALUE=DURATION:PT1H
X-Robots-Tag:noindex
X-PUBLISHED-TTL:PT1H
BEGIN:VTIMEZONE
TZID:America/Vancouver
BEGIN:DAYLIGHT
TZOFFSETFROM:-0800
TZOFFSETTO:-0700
TZNAME:PDT
DTSTART:20240310T100000
END:DAYLIGHT
BEGIN:STANDARD
TZOFFSETFROM:-0700
TZOFFSETTO:-0800
TZNAME:PST
DTSTART:20241103T090000
END:STANDARD
BEGIN:DAYLIGHT
TZOFFSETFROM:-0800
TZOFFSETTO:-0700
TZNAME:PDT
DTSTART:20250309T100000
END:DAYLIGHT
BEGIN:STANDARD
TZOFFSETFROM:-0700
TZOFFSETTO:-0800
TZNAME:PST
DTSTART:20251102T090000
END:STANDARD
BEGIN:DAYLIGHT
TZOFFSETFROM:-0800
TZOFFSETTO:-0700
TZNAME:PDT
DTSTART:20260308T100000
END:DAYLIGHT
BEGIN:STANDARD
TZOFFSETFROM:-0700
TZOFFSETTO:-0800
TZNAME:PST
DTSTART:20261101T090000
END:STANDARD
END:VTIMEZONE
BEGIN:VEVENT
DTSTART;TZID=America/Vancouver:20250505T100000
DTEND;TZID=America/Vancouver:20251130T160000
DTSTAMP:20260423T095935
CREATED:20250506T172053Z
LAST-MODIFIED:20250506T172053Z
UID:25161-1746439200-1764518400@www.exploresidney.ca
SUMMARY:Health in Space Exhibit at Sidney Museum
DESCRIPTION:Health in Space: Daring to Explore is developed by the Canada Aviation and Space Museum\, part of Ingenium – Canada’s Museums of Science and Innovation\, in collaboration with the Canadian Space Agency. \nThe exhibit also features exclusive video interviews with Canadian astronauts\, including a special section dedicated to astronaut David Saint-Jacques’ recent mission. It will cover everything from his selection and rigorous training to the groundbreaking experiments he conducted while aboard the International Space Station (ISS). \n  \n 
URL:https://www.exploresidney.ca/event/health-in-space-exhibit-at-sidney-museum/
LOCATION:Sidney Museum and Archives\, 2423 Beacon Ave\, SIDNEY\, BC\, V8L 1X5\, Canada
ATTACH;FMTTYPE=image/png:https://www.exploresidney.ca/wp-content/uploads/2025/05/Sidney-Museum-Health-in-Space-Poster.png
END:VEVENT
BEGIN:VEVENT
DTSTART;TZID=America/Vancouver:20250912T100000
DTEND;TZID=America/Vancouver:20250918T160000
DTSTAMP:20260423T095935
CREATED:20250821T215417Z
LAST-MODIFIED:20250821T215417Z
UID:26814-1757671200-1758211200@www.exploresidney.ca
SUMMARY:Strands Artshow
DESCRIPTION:Show Times: 10am – 4pm\, daily September 12 – 18 \nExhibition Details: – Celebrating a Convergence of Creatives \nJoin us for a reception at 3pm on Saturday Sept 13. \nLive music performed by Brandy Moore Sunday Sept 14. \nParticipants: Highlighting five unique artists working within the silver web of creativity\nCarolyn Houg (sculpture\, mixed media)\nSusan Duffield (fibre art)\nWendy Duffield (collage\, mixed media)\nMargaret Lonsdale (poetry\, photography)\nKevin Keliher (digital collage)\nJoin us for a number of activities during the week
URL:https://www.exploresidney.ca/event/strands-artshow/
LOCATION:ArtSea Gallery in Tulista Park\, 9565 Fifth Street\, Sidney\, British Columbia\, Canada
ATTACH;FMTTYPE=image/png:https://www.exploresidney.ca/wp-content/uploads/2025/08/2025-Strands-5.png
END:VEVENT
BEGIN:VEVENT
DTSTART;TZID=America/Vancouver:20250914T130000
DTEND;TZID=America/Vancouver:20250914T150000
DTSTAMP:20260423T095935
CREATED:20250827T173703Z
LAST-MODIFIED:20250827T173703Z
UID:26888-1757854800-1757862000@www.exploresidney.ca
SUMMARY:Sea Shirt Sunday @ Shaw Centre for the Salish Sea
DESCRIPTION:Create your own fish fashion! \nBe sure to bring along: \n\nA pillow case\, cloth bag or t-shirt (or purchase a t-shirt or bag\, $7.00. from the Centre)\n$2 for fabric paint\nYour creativity\n\nDetails: \n\nFish molds provided\nSuitable for all ages\nChildren must be accompanied by an adult\nNo registration required\nStandard admission rates apply; memberships and annual passes accepted\n\nSunday\, September 14\, 2025\n1:00pm – 3:00pm
URL:https://www.exploresidney.ca/event/sea-shirt-sunday-shaw-centre-for-the-salish-sea-4/
LOCATION:Shaw Centre for the Salish Sea\, 9811 Seaport Place\, Sidney\, BC\, V8L4X3\, Canada
END:VEVENT
BEGIN:VEVENT
DTSTART;TZID=America/Vancouver:20250914T130000
DTEND;TZID=America/Vancouver:20250914T160000
DTSTAMP:20260423T095935
CREATED:20250830T192935Z
LAST-MODIFIED:20250830T192935Z
UID:26933-1757854800-1757865600@www.exploresidney.ca
SUMMARY:Toast to the Coast!
DESCRIPTION:Join us at TOAST TO THE COAST\, on Sunday Sept 14th 1-4pm and spend a delicious late Summer afternoon wandering through the beautiful grounds of Kildara Farms! \nThe second annual TOAST TO THE COAST showcases some of the best food and drink the coast has to offer\, with tastings and bites from over 30 local artisan food + drink vendors! \nA beautiful country setting and ocean view ~ you can spend the day meandering amongst the flowers and orchard trees and charming country barn\, while sipping and tasting and enjoying live music! Lounge areas and picnic blankets will be set up for your comfort\, and linen napkins\, tasting glasses and bamboo plates will be provided upon entry. \nTaste something you love?\nMany vendors will have goods on sale that our team will label for you and have available for collection on your way out ~ so no need to carry things around and hamper your enjoyment! \nTICKETS ARE NOW ON SALE\nhttps://toast-to-the-coast-2025.eventbrite.ca/ \nSHUTTLE SERVICE!\nHop on the Toast Shuttle and be chauffeured to and from Kildara Farms in the super fun Community Action Bus!\nHop on at Mayfair Mall ~ bus leaves at 12:15pm from the parking lot\, from the corner of lot by the Deco Windshield Repair tent (corner of Finlayson + Douglas).\nPlease arrive in time board bus by 12 noon\, with bus swiftly departing at 12:15pm (with an approximate 40 minute journey\, arriving at 1pm at Kildara Farms.\nBoard the Bus at 3:45pm for return trip.\nPURCHASE SHUTTLE TICKET VIA TICKET LINK \nDID YOU KNOW?\nToast to the Coast happens on our family farm\, and is a fundraiser\, with 100% of proceeds going to the Saanich Peninsula Hospital Foundation \nPARKING\nCarpool if possible\, parking is available on the road\nACCESSIBLE PARKING: contact info@toasttothecoast.org so we can reserve your spot\nBIKE PARKING: a bike bay will be available for you to lock up your bikes if you choose to cycle.| \nWe look forward to welcoming you as we celebrate local food + drinks and Toast to the Coast!
URL:https://www.exploresidney.ca/event/toast-to-the-coast/
LOCATION:Kildara Farms\, 11293 Chalet Rd\, North Saanich\, V8L 5M1
ATTACH;FMTTYPE=image/jpeg:https://www.exploresidney.ca/wp-content/uploads/2025/08/TTTC_FB_Banner_2.jpg
END:VEVENT
END:VCALENDAR