BEGIN:VCALENDAR
VERSION:2.0
PRODID:-//Sidney BIA - ECPv6.15.20//NONSGML v1.0//EN
CALSCALE:GREGORIAN
METHOD:PUBLISH
X-WR-CALNAME:Sidney BIA
X-ORIGINAL-URL:https://www.exploresidney.ca
X-WR-CALDESC:Events for Sidney BIA
REFRESH-INTERVAL;VALUE=DURATION:PT1H
X-Robots-Tag:noindex
X-PUBLISHED-TTL:PT1H
BEGIN:VTIMEZONE
TZID:America/Vancouver
BEGIN:DAYLIGHT
TZOFFSETFROM:-0800
TZOFFSETTO:-0700
TZNAME:PDT
DTSTART:20240310T100000
END:DAYLIGHT
BEGIN:STANDARD
TZOFFSETFROM:-0700
TZOFFSETTO:-0800
TZNAME:PST
DTSTART:20241103T090000
END:STANDARD
BEGIN:DAYLIGHT
TZOFFSETFROM:-0800
TZOFFSETTO:-0700
TZNAME:PDT
DTSTART:20250309T100000
END:DAYLIGHT
BEGIN:STANDARD
TZOFFSETFROM:-0700
TZOFFSETTO:-0800
TZNAME:PST
DTSTART:20251102T090000
END:STANDARD
BEGIN:DAYLIGHT
TZOFFSETFROM:-0800
TZOFFSETTO:-0700
TZNAME:PDT
DTSTART:20260308T100000
END:DAYLIGHT
BEGIN:STANDARD
TZOFFSETFROM:-0700
TZOFFSETTO:-0800
TZNAME:PST
DTSTART:20261101T090000
END:STANDARD
END:VTIMEZONE
BEGIN:VEVENT
DTSTART;TZID=America/Vancouver:20250505T100000
DTEND;TZID=America/Vancouver:20251130T160000
DTSTAMP:20260424T044710
CREATED:20250506T172053Z
LAST-MODIFIED:20250506T172053Z
UID:25161-1746439200-1764518400@www.exploresidney.ca
SUMMARY:Health in Space Exhibit at Sidney Museum
DESCRIPTION:Health in Space: Daring to Explore is developed by the Canada Aviation and Space Museum\, part of Ingenium – Canada’s Museums of Science and Innovation\, in collaboration with the Canadian Space Agency. \nThe exhibit also features exclusive video interviews with Canadian astronauts\, including a special section dedicated to astronaut David Saint-Jacques’ recent mission. It will cover everything from his selection and rigorous training to the groundbreaking experiments he conducted while aboard the International Space Station (ISS). \n  \n 
URL:https://www.exploresidney.ca/event/health-in-space-exhibit-at-sidney-museum/
LOCATION:Sidney Museum and Archives\, 2423 Beacon Ave\, SIDNEY\, BC\, V8L 1X5\, Canada
ATTACH;FMTTYPE=image/png:https://www.exploresidney.ca/wp-content/uploads/2025/05/Sidney-Museum-Health-in-Space-Poster.png
END:VEVENT
BEGIN:VEVENT
DTSTART;VALUE=DATE:20250916
DTEND;VALUE=DATE:20251101
DTSTAMP:20260424T044710
CREATED:20250830T193119Z
LAST-MODIFIED:20250830T193119Z
UID:26966-1757980800-1761955199@www.exploresidney.ca
SUMMARY:Sidney Camera Club Print Show
DESCRIPTION:The Sidney Camera Club presents an exhibition of prints from club members. This show will be at the Sidney Pier Hotel and Spa (9805 Seaport Pl) running from September 16th to October 31st. Don’t miss these exceptional prints being offered for sale.
URL:https://www.exploresidney.ca/event/sidney-camera-club-print-show/
LOCATION:Sidney Pier Hotel\, 9805 Seaport Place\, Sidney\, V8L4X3
ATTACH;FMTTYPE=image/jpeg:https://www.exploresidney.ca/wp-content/uploads/2025/08/SCC-Siidney-Pier-Hotel.jpg
ORGANIZER;CN="Sidney Camera Club":MAILTO:LeahGray@Spirithills.ca
END:VEVENT
BEGIN:VEVENT
DTSTART;TZID=America/Vancouver:20251003T100000
DTEND;TZID=America/Vancouver:20251009T160000
DTSTAMP:20260424T044710
CREATED:20250907T163900Z
LAST-MODIFIED:20250907T163900Z
UID:27094-1759485600-1760025600@www.exploresidney.ca
SUMMARY:'Texere: Exploring Fine Fibre Arts' Artshow
DESCRIPTION:Show Times: 10am – 4pm\, daily \nExhibition Details: Texere is an exhibition and sale of fibre arts\, showcasing the skills of members of the Victoria Handweavers’ and Spinners’ Guild. Work includes art pieces\, clothing and accessories\, and household linens. There will be demonstrations in spinning\, weaving\, needle felting and knitting. \nParticipants: Victoria Handweavers’ and Spinners’ Guild
URL:https://www.exploresidney.ca/event/texere-exploring-fine-fibre-arts-artshow/
LOCATION:ArtSea Gallery in Tulista Park\, 9565 Fifth Street\, Sidney\, British Columbia\, Canada
ATTACH;FMTTYPE=image/jpeg:https://www.exploresidney.ca/wp-content/uploads/2025/09/2025_teXere_flyer.jpg
END:VEVENT
BEGIN:VEVENT
DTSTART;TZID=America/Vancouver:20251007T100000
DTEND;TZID=America/Vancouver:20251007T111500
DTSTAMP:20260424T044710
CREATED:20250827T174055Z
LAST-MODIFIED:20250827T174138Z
UID:26890-1759831200-1759835700@www.exploresidney.ca
SUMMARY:Tot Tuesday Returns with Octopus Extravaganza @ Shaw Centre for the Salish Sea
DESCRIPTION:Tuesday\, October 7\, 2025\n10:00am – 11:15am \n*RETURNS OCTOBER 7 \nTuesdays 10:30am–11:15am \nBring your preschooler to the Centre for a morning of fun! Parents and preschoolers are invited to join our educators on Tuesday mornings at 10:30am for special ocean-themed stories\, crafts and activities. A new topic is explored every week\, from Squishy Squids to Turtle Time and more! \n\nSuitable for ages 3–5\nChildren must be accompanied by an adult\nNo registration is required however numbers will be limited due to physical space\nStandard admission rates apply; Annual Passes and memberships accepted\nThemes listed below are subject to change
URL:https://www.exploresidney.ca/event/tot-tuesday-returns-with-octopus-extravaganza/
LOCATION:Shaw Centre for the Salish Sea\, 9811 Seaport Place\, Sidney\, BC\, V8L4X3\, Canada
END:VEVENT
BEGIN:VEVENT
DTSTART;TZID=America/Vancouver:20251007T193000
DTEND;TZID=America/Vancouver:20251007T210000
DTSTAMP:20260424T044710
CREATED:20250830T221354Z
LAST-MODIFIED:20250830T221354Z
UID:26999-1759865400-1759870800@www.exploresidney.ca
SUMMARY:Pocket Symphonies Performance
DESCRIPTION:Mary Winspear Centre Presenter Series: Pocket Symphonies – Ft. Bergmann Duo\, Jasper Wood\, Sungyong Lim \nPocket Symphonies with the Bergmann Duo\, Jasper Wood\, violin and Sungyong Lim\, cello ‘Pocket’ ensembles offer an opportunity to bring a fresh and new take on a much beloved work such as Beethoven’s 5th Symphony. \nThe cornerstone classical masterpiece is probably one of the most well-known pieces of all time and this ‘pocket’ version by Carl Burchard for one piano 4 hands\, violin and cello leaves nothing out in terms of fullness and exuberance. Also\, on the programme is the Hebrides Overture by Mendelssohn and a selection of Brahms Hungarian Dances. The quartet will round out the programme with other works that celebrate the splendid and rich sound combination of strings and piano. \n\nDoors: 7:00 PM \nShowtime: 7:30 PM \n\nTicket Price: $44.00
URL:https://www.exploresidney.ca/event/pocket-symphonies-performance/
LOCATION:The Mary Winspear Centre\, 2243 Beacon Ave\, Sidney\, BC\, V8L 1W9\, Canada
ATTACH;FMTTYPE=image/jpeg:https://www.exploresidney.ca/wp-content/uploads/2025/08/pocket-Website-event.jpg
END:VEVENT
END:VCALENDAR