BEGIN:VCALENDAR
VERSION:2.0
PRODID:-//Sidney BIA - ECPv6.15.20//NONSGML v1.0//EN
CALSCALE:GREGORIAN
METHOD:PUBLISH
X-ORIGINAL-URL:https://www.exploresidney.ca
X-WR-CALDESC:Events for Sidney BIA
REFRESH-INTERVAL;VALUE=DURATION:PT1H
X-Robots-Tag:noindex
X-PUBLISHED-TTL:PT1H
BEGIN:VTIMEZONE
TZID:America/Vancouver
BEGIN:DAYLIGHT
TZOFFSETFROM:-0800
TZOFFSETTO:-0700
TZNAME:PDT
DTSTART:20220313T100000
END:DAYLIGHT
BEGIN:STANDARD
TZOFFSETFROM:-0700
TZOFFSETTO:-0800
TZNAME:PST
DTSTART:20221106T090000
END:STANDARD
BEGIN:DAYLIGHT
TZOFFSETFROM:-0800
TZOFFSETTO:-0700
TZNAME:PDT
DTSTART:20230312T100000
END:DAYLIGHT
BEGIN:STANDARD
TZOFFSETFROM:-0700
TZOFFSETTO:-0800
TZNAME:PST
DTSTART:20231105T090000
END:STANDARD
BEGIN:DAYLIGHT
TZOFFSETFROM:-0800
TZOFFSETTO:-0700
TZNAME:PDT
DTSTART:20240310T100000
END:DAYLIGHT
BEGIN:STANDARD
TZOFFSETFROM:-0700
TZOFFSETTO:-0800
TZNAME:PST
DTSTART:20241103T090000
END:STANDARD
END:VTIMEZONE
BEGIN:VEVENT
DTSTART;TZID=America/Vancouver:20230922T103000
DTEND;TZID=America/Vancouver:20230922T113000
DTSTAMP:20260424T025140
CREATED:20230919T190921Z
LAST-MODIFIED:20230919T190921Z
UID:14576-1695378600-1695382200@www.exploresidney.ca
SUMMARY:Book Chat: Award Season
DESCRIPTION:Enjoy a cup of coffee on us and join our friendly informal book chat. Each month will have a different focus (and maybe a special guest). No registration required. Everyone welcome. \nSeptember = Book Awards \n*Please consider bringing your own mug to reduce waste.
URL:https://www.exploresidney.ca/event/book-chat-award-season/
LOCATION:Sidney/North Saanich Branch Library\, 10091 Resthaven Drive\, Sidney\, V8L 3G3
END:VEVENT
BEGIN:VEVENT
DTSTART;TZID=America/Vancouver:20230922T130000
DTEND;TZID=America/Vancouver:20230922T143000
DTSTAMP:20260424T025140
CREATED:20230723T181913Z
LAST-MODIFIED:20230723T181913Z
UID:14157-1695387600-1695393000@www.exploresidney.ca
SUMMARY:Pro-D Day $2 Skate
DESCRIPTION:Join Panorama Recreation Centre for a fun-filled Pro-D day! Bring your family and friends for skating fun with music\, games and prizes. Helmets available free of charge for skating.
URL:https://www.exploresidney.ca/event/pro-d-day-2-skate-2/
LOCATION:Panorama Recreation Centre\, 1885 Forest Park Drive\, North Saanich\, BC\, V8L 4A3\, Canada
END:VEVENT
BEGIN:VEVENT
DTSTART;TZID=America/Vancouver:20230922T193000
DTEND;TZID=America/Vancouver:20230922T193000
DTSTAMP:20260424T025140
CREATED:20230613T191803Z
LAST-MODIFIED:20230613T191803Z
UID:13314-1695411000-1695411000@www.exploresidney.ca
SUMMARY:Alex Cuba
DESCRIPTION:Alex Cuba is a Latin Grammy/Juno winner\, singer-songwriter who is not tied to tradition; Alex has a vast musical vision. His sugarcane-sweet melodies\, pop-soul hooks and powerful guitar riffs\, relinquish a conventional stereotype that exemplifies much of the Latin music landscape. \nHis musical evolution for years was all about searching for the simplicity and soul in Cuban music – taking apart the complex arrangements\, mixing it with North American influences\, adopting the melodic simplicity of pop music\, looking to Cuban folk traditions for inspiration – he’s always exploring\, always creating something fresh and new\, and always\, it seems\, getting it just right.
URL:https://www.exploresidney.ca/event/alex-cuba/
LOCATION:Mary Winspear Centre\, 2243 Beacon Avenue\, Sidney\, British Columbia\, V8L 1W9\, Canada
END:VEVENT
BEGIN:VEVENT
DTSTART;TZID=America/Vancouver:20230923T093000
DTEND;TZID=America/Vancouver:20230923T120000
DTSTAMP:20260424T025140
CREATED:20230613T212314Z
LAST-MODIFIED:20230613T212314Z
UID:13366-1695461400-1695470400@www.exploresidney.ca
SUMMARY:North Saanich Farm Market
DESCRIPTION:Operating every Saturday morning from the start of June through to October\, the North Saanich Farm Market is full of community spirit\, where the Peninsula’s top food producers display fresh fruits and vegetables\, local lamb\, beef\, and seafood – and some of the most coveted fresh baked breads in the region.
URL:https://www.exploresidney.ca/event/north-saanich-farm-market-14/
LOCATION:10990 West Saanich Rd\, 10990 West Saanich Rd\, North Saanich\, BC\, Canada
END:VEVENT
BEGIN:VEVENT
DTSTART;TZID=America/Vancouver:20230923T100000
DTEND;TZID=America/Vancouver:20231021T170000
DTSTAMP:20260424T025140
CREATED:20230915T231434Z
LAST-MODIFIED:20230915T231434Z
UID:14509-1695463200-1697907600@www.exploresidney.ca
SUMMARY:Fall Scavenger Hunt
DESCRIPTION:We have a new seasonal Scavenger hunt for the kiddos! Search the children’s area in the library for the hidden images and solve the riddle to be entered into a prize draw. \nRuns September 23 – October 21
URL:https://www.exploresidney.ca/event/fall-scavenger-hunt/
LOCATION:Sidney/North Saanich Branch Library\, 10091 Resthaven Drive\, Sidney\, V8L 3G3
END:VEVENT
BEGIN:VEVENT
DTSTART;TZID=America/Vancouver:20230923T103000
DTEND;TZID=America/Vancouver:20230923T111500
DTSTAMP:20260424T025140
CREATED:20230915T214447Z
LAST-MODIFIED:20230915T214447Z
UID:14492-1695465000-1695467700@www.exploresidney.ca
SUMMARY:Solar Bugs & Photovoltaics
DESCRIPTION:We are excited to announce that Chris Palliser from Shift will be joining us on September 23rd. He will introduce the fundamentals of Solar Energy and Photovoltaics. Get ready for an enjoyable\, engaging\, and educational session that will be accompanied by his team of Solar Bugs! \nBest for ages 9-12 year old. Registration required – spaces limited \nTo register email sidney@virl.bc.ca\,  phone 250-656-0944 or ask at the library service desk.
URL:https://www.exploresidney.ca/event/solar-bugs-photovoltaics/
LOCATION:Sidney/North Saanich Branch Library\, 10091 Resthaven Drive\, Sidney\, V8L 3G3
END:VEVENT
BEGIN:VEVENT
DTSTART;TZID=America/Vancouver:20230923T130000
DTEND;TZID=America/Vancouver:20230923T170000
DTSTAMP:20260424T025140
CREATED:20230715T232446Z
LAST-MODIFIED:20230715T232446Z
UID:13563-1695474000-1695488400@www.exploresidney.ca
SUMMARY:Volunteer Recruitment Carnival
DESCRIPTION:Please join us at a Volunteer Recruitment Carnival\, hosted by Beacon Community Services! \nAttendees will learn about volunteer opportunities on the Saanich Peninsula\, while enjoying a carnival style food\, drinks\, decorations\, a photo booth\, and more! \nEntrance is free! Food and drinks will be available for purchase. \nContact bsales@beaconcs.ca with any questions
URL:https://www.exploresidney.ca/event/volunteer-recruitment-carnival/
LOCATION:SHOAL Centre\, 10030 Resthaven Drive\, Sidney\, V8L 3G4
ORGANIZER;CN="Beacon Community Services":MAILTO:jvanes@beaconcs.ca
END:VEVENT
BEGIN:VEVENT
DTSTART;TZID=America/Vancouver:20230923T133000
DTEND;TZID=America/Vancouver:20230923T160000
DTSTAMP:20260424T025140
CREATED:20230723T182639Z
LAST-MODIFIED:20230723T182639Z
UID:14159-1695475800-1695484800@www.exploresidney.ca
SUMMARY:Pro-D Day $2 Swim
DESCRIPTION:Join Panorama Recreation Centre for a fun-filled Pro-D day! Bring your family and friends for swimming fun with music\, games and prizes.
URL:https://www.exploresidney.ca/event/pro-d-day-2-swim-3/
LOCATION:Panorama Recreation Centre\, 1885 Forest Park Drive\, North Saanich\, BC\, V8L 4A3\, Canada
END:VEVENT
BEGIN:VEVENT
DTSTART;TZID=America/Vancouver:20230923T140000
DTEND;TZID=America/Vancouver:20230923T160000
DTSTAMP:20260424T025140
CREATED:20230924T150124Z
LAST-MODIFIED:20230924T150124Z
UID:14532-1695477600-1695484800@www.exploresidney.ca
SUMMARY:St Paul’s United Church (Malaview Ave\, Sidney) presents an afternoon of vocal jazz (concert)
DESCRIPTION:Angela is a critically acclaimed songwriter and highly entertaining musical artist.\nAngela Verbrugge caught listeners’ ears with her debut album (released on NYC’s Gut String Records) and she won this year’s JazzTimes Readers’ Poll in the female jazz vocalist category. The magazine’s review of her album describes that Angela\, who takes inspiration from vintage musicals\, the swing era\, blues\, and bebop\, has “conspicuously good taste”. Toronto Music Report writes that she is “a gem of a vocalist who makes all her chosen material sound magical. Her song-writing collaborations have received features in JAZZIZ Magazine. JazzWeekly describes the former actress as “fun and quirky\, hip and a hoot\, wispy and romantic; she slithers and oozes\, and cleverly swings.”\nhttps://angelaverbrugge.com/\n\nTickets: $25. Seniors & Students under 18yrs: $20. Children under 12 yrs: free\nTickets also available for purchase at the church office Mon\, Tue\, Thu\, Fri 10am – 1pm or from Tanners Books (cash or cheque only)\nDoors open at 1:30pm.\nVenue: St Paul’s United Church 2410 Malaview Ave\, Sidney BC V8L 2G3\nFree parking on site and wheelchair accessible\nTickets: $25. Seniors & Students under 18yrs: $20. Available from the church office\, Tanner’s Books (cash or cheque only) or online. https://www.eventbrite.ca/e/686191867347?aff=oddtdtcreator \nhttps://www.stpaulsunitedbc.com/concerts\nFacebook: https://www.facebook.com/stpaulsunitedbc
URL:https://www.exploresidney.ca/event/st-pauls-united-church-malaview-ave-sidney-presents-an-afternoon-of-vocal-jazz-concert/
LOCATION:St. Paul’s United Church – 2410 Malaview Road\, Sidney\, St. Paul’s United Church 2410 Malaview Road\, Sidney BC\, V8L 2G3
ATTACH;FMTTYPE=image/jpeg:https://www.exploresidney.ca/wp-content/uploads/2023/09/angela.jpg
ORGANIZER;CN="Geoff Brannon":MAILTO:magnolia4events@gmail.com
END:VEVENT
BEGIN:VEVENT
DTSTART;TZID=America/Vancouver:20230923T193000
DTEND;TZID=America/Vancouver:20230923T193000
DTSTAMP:20260424T025140
CREATED:20230808T192120Z
LAST-MODIFIED:20230808T192120Z
UID:14336-1695497400-1695497400@www.exploresidney.ca
SUMMARY:Tower of Song: A Creative Tribute to Leonard Cohen
DESCRIPTION:When Leonard Cohen sang these words\, the Tower of Song was a metaphor for the inspiration that flows between songwriters\, each toiling away on their own\, but connected by their shared craft. Moved by this concept\, celebrated BC singer-songwriters Oliver Swain and Glenna Garramone\, collaborated to produce a project that is a dialogue through song and a tribute to the legendary songwriter. Reimagining both rare and classic works of Cohen\, the duo have crafted a sound that resonates with both longtime Cohen fans and a younger audience. \nTower of Song began as a one-off tribute night for a packed house at Vancouver’s The Media Club\, and has since grown into a nationally touring folk duo. Produced by Garramone\, she invited fellow Victoria musician Oliver Swain\, and the show gave Swain and Garramone the chance to grow their musical chemistry. Together as Tower of Song the two have arranged some of Cohen’s timeless songs beautifully\, for two voices\, banjo\, string bass\, piano and guitar.
URL:https://www.exploresidney.ca/event/tower-of-song-a-creative-tribute-to-leonard-cohen/
LOCATION:Mary Winspear Centre\, 2243 Beacon Avenue\, Sidney\, British Columbia\, V8L 1W9\, Canada
END:VEVENT
BEGIN:VEVENT
DTSTART;TZID=America/Vancouver:20230924T100000
DTEND;TZID=America/Vancouver:20230924T160000
DTSTAMP:20260424T025140
CREATED:20230808T192819Z
LAST-MODIFIED:20230808T192819Z
UID:14338-1695549600-1695571200@www.exploresidney.ca
SUMMARY:Victoria Railway Model Show 2023
DESCRIPTION:Are you a train/railway enthusiast? Interested in seeing some creative designs? Come see the Victoria Model Railway Club at Mary Winspear as they showcase their operating model railroads & displays. There will also be commercial and individual sales happening around the event. \nAdmissions:\nAdults $8\nFamily $16\nNMRA/PNR Member $7\nYouth $7\nChildren 8 and under FREE when accompanied by an adult
URL:https://www.exploresidney.ca/event/victoria-railway-model-show-2023/
LOCATION:Mary Winspear Centre\, 2243 Beacon Avenue\, Sidney\, British Columbia\, V8L 1W9\, Canada
END:VEVENT
BEGIN:VEVENT
DTSTART;TZID=America/Vancouver:20230925T133000
DTEND;TZID=America/Vancouver:20230925T153000
DTSTAMP:20260424T025140
CREATED:20230915T231812Z
LAST-MODIFIED:20230915T231812Z
UID:14511-1695648600-1695655800@www.exploresidney.ca
SUMMARY:Scrabble Drop-in
DESCRIPTION:Join us for fun and friendly competition! \n\nScrabble sets available\nBring your own set if you have one\nAll Skill levels welcome
URL:https://www.exploresidney.ca/event/scrabble-drop-in-4/
LOCATION:Sidney/North Saanich Branch Library\, 10091 Resthaven Drive\, Sidney\, V8L 3G3
END:VEVENT
BEGIN:VEVENT
DTSTART;TZID=America/Vancouver:20230926T160000
DTEND;TZID=America/Vancouver:20230926T180000
DTSTAMP:20260424T025140
CREATED:20230919T183510Z
LAST-MODIFIED:20230919T183510Z
UID:14558-1695744000-1695751200@www.exploresidney.ca
SUMMARY:The Art of Reconciliation Community Mosaic Project Celebration
DESCRIPTION:Join the Victoria Native Friendship Centre\, the Art of Reconciliation and Panorama Recreation for a celebration and unveiling of a community mosaic. The mosaic artwork was designed by Dahlila Charlie and inspired by Orange Shirt Day and National Day of Truth and Reconciliation. \nWith artisans\, vendors\, refreshments\, and powerful words to be shared\, we invite community to come together\, take a moment of silence\, and commemorate this art piece with us in honour of Orange Shirt Day and National Day for Truth and Reconciliation.
URL:https://www.exploresidney.ca/event/the-art-of-reconciliation-community-mosaic-project-celebration/
LOCATION:Greenglade Community Centre\, 2151 Lannon Way\, Sidney
END:VEVENT
BEGIN:VEVENT
DTSTART;TZID=America/Vancouver:20230928T103000
DTEND;TZID=America/Vancouver:20230928T111500
DTSTAMP:20260424T025140
CREATED:20230915T223958Z
LAST-MODIFIED:20230915T224755Z
UID:14498-1695897000-1695899700@www.exploresidney.ca
SUMMARY:Good Morning Storytime
DESCRIPTION:Bring your littlest ones to the library for stories\, songs\, rhymes\, and movement. Every Thursday morning from September 14 – October 26. Ages 0-5. Drop-in. \n**PLEASE NOTE: We will be taking Storytime to the Sidney All Care Auditorium (2269 Mills Rd.) on September 28 & October 26. We hope you can join us!
URL:https://www.exploresidney.ca/event/good-morning-storytime-6/
LOCATION:Sidney All Care\, 2269 Mills Rd\, Sidney\, BC\, V8L 2C3\, Canada
END:VEVENT
BEGIN:VEVENT
DTSTART;TZID=America/Vancouver:20230928T183000
DTEND;TZID=America/Vancouver:20230928T200000
DTSTAMP:20260424T025140
CREATED:20230919T191448Z
LAST-MODIFIED:20230919T191448Z
UID:14579-1695925800-1695931200@www.exploresidney.ca
SUMMARY:Writers Support Group
DESCRIPTION:Develop your writing in a supportive environment in this member-led group.  Share your writing with other writers for encouragement and feedback.  We welcome writers of all genres and experience.  Drop-in.
URL:https://www.exploresidney.ca/event/writers-support-group-3/
LOCATION:Sidney/North Saanich Branch Library\, 10091 Resthaven Drive\, Sidney\, V8L 3G3
END:VEVENT
BEGIN:VEVENT
DTSTART;TZID=America/Vancouver:20230929T090000
DTEND;TZID=America/Vancouver:20230929T103000
DTSTAMP:20260424T025140
CREATED:20230901T224857Z
LAST-MODIFIED:20230901T224857Z
UID:14387-1695978000-1695983400@www.exploresidney.ca
SUMMARY:Seniors Pancake & Sausage Breakfast
DESCRIPTION:Each year\, SHOAL helps celebrate International Day of Older Persons. In Canada\, it’s known as National Seniors Day\, and is honoured on October 1. This year\, October 1 falls on a Sunday\, so the Community Centre is holding a celebratory event on Friday\, September 29. \nA free pancake and sausage breakfast for seniors will take place in the SHOAL dining room. Breakfast will include coffee or tea\, a small glass of juice\, pan­cakes and sausages. This is our way of letting seniors in Sidney know how much they are appreciated and valued. \nThis free breakfast is made possible through the partnership of Beacon Community Services at SHOAL\, and the Saanich Peninsula Community Response Network (SPCRN). Funding from SPCRN for this event is made possible by a grant from the BC Association of Community Response Net­works\, mandated to help keep our communities safe by offering free educa­tion\, resources and events aimed at stopping abuse\, neglect and self-neglect among seniors. \nDate: Friday\, September 29 \nTime: 9 – 10:30 Cost: Free \n*Space is limited\, please call ahead to book your spot. Call 250-656-5537
URL:https://www.exploresidney.ca/event/seniors-pancake-sausage-breakfast/
LOCATION:SHOAL Centre\, 10030 Resthaven Drive\, Sidney\, V8L 3G4
END:VEVENT
BEGIN:VEVENT
DTSTART;TZID=America/Vancouver:20230929T100000
DTEND;TZID=America/Vancouver:20231005T160000
DTSTAMP:20260424T025140
CREATED:20230919T175756Z
LAST-MODIFIED:20230919T175756Z
UID:14545-1695981600-1696521600@www.exploresidney.ca
SUMMARY:Impressions
DESCRIPTION:An Exhibition of original art by Carol Bednarski & Allison Brodie. Enjoy the creative paintings from September 29 – October 5\, 10am – 4pm daily!
URL:https://www.exploresidney.ca/event/impressions/
LOCATION:ArtSea Gallery in Tulista Park\, 9565 Fifth Street\, Sidney\, British Columbia\, Canada
ORGANIZER;CN="ArtSea Community Arts Council":MAILTO:artseagallery@artsea.ca
END:VEVENT
BEGIN:VEVENT
DTSTART;TZID=America/Vancouver:20230929T193000
DTEND;TZID=America/Vancouver:20231001T073000
DTSTAMP:20260424T025140
CREATED:20230919T181501Z
LAST-MODIFIED:20230919T181501Z
UID:14547-1696015800-1696145400@www.exploresidney.ca
SUMMARY:Blackadder
DESCRIPTION:The third Blackadder series revolves around the adventures of Edmund Blackadder who has been reduced to serving as butler to the hapless Prince George.  Featuring the episodes Dish & Dishonesty\, Ink & Incapability\, and Duel & Duality\, Blackadder rubs shoulders with the likes of Dr. Samuel Johnson\, William Pitt (the younger) and the Duke of Wellington. The show has been consistently rated as one of the top ten comedies in British Television. \nFriday\, September 29 – 7:30PM\nSaturday\, September 30 – 2:00PM & 7:30PM\nSunday\, October 1 – 2:00PM
URL:https://www.exploresidney.ca/event/blackadder-2/
LOCATION:Mary Winspear Centre\, 2243 Beacon Avenue\, Sidney\, British Columbia\, V8L 1W9\, Canada
END:VEVENT
BEGIN:VEVENT
DTSTART;TZID=America/Vancouver:20230929T203000
DTEND;TZID=America/Vancouver:20230929T220000
DTSTAMP:20260424T025140
CREATED:20230915T210053Z
LAST-MODIFIED:20230915T210053Z
UID:14478-1696019400-1696024800@www.exploresidney.ca
SUMMARY:Full Moon Paddle
DESCRIPTION:Join us for a captivating paddle under the full moon glow. \nOur expert guides will lead you on a mesmerizing paddle excursion through the tranquil waters\, each paddle stroke creating a shimmering trail of moonlight. As you immerse yourself in the enchanting ambiance of the night\, you’ll feel the serenity and peacefulness that only a moonlit paddle can offer. \nWhether you’re a seasoned paddler or a beginner\, our tour promises to be an unforgettable outdoor adventure that will leave you awestruck and enchanted by the beauty of the moonlit waters. \n​ \nMeet at the SUP racks in the Port Sidney Marina\, Sidney\, BC \n8:30pm to 10:00pm
URL:https://www.exploresidney.ca/event/full-moon-paddle/
LOCATION:Port Sidney Marina\, 9835 Seaport Place\, Sidney\, V8L 4X3\, Canada
ATTACH;FMTTYPE=image/png:https://www.exploresidney.ca/wp-content/uploads/2023/09/Screenshot-2023-09-13-at-2.01.58-PM.png
ORGANIZER;CN="Blue Jellyfish SUP Adventures":MAILTO:pam@bluejellyfishSUP.ca
END:VEVENT
BEGIN:VEVENT
DTSTART;TZID=America/Vancouver:20230930T093000
DTEND;TZID=America/Vancouver:20230930T120000
DTSTAMP:20260424T025140
CREATED:20230613T212528Z
LAST-MODIFIED:20230613T212528Z
UID:13370-1696066200-1696075200@www.exploresidney.ca
SUMMARY:North Saanich Farm Market
DESCRIPTION:Operating every Saturday morning from the start of June through to October\, the North Saanich Farm Market is full of community spirit\, where the Peninsula’s top food producers display fresh fruits and vegetables\, local lamb\, beef\, and seafood – and some of the most coveted fresh baked breads in the region.
URL:https://www.exploresidney.ca/event/north-saanich-farm-market-16/
LOCATION:10990 West Saanich Rd\, 10990 West Saanich Rd\, North Saanich\, BC\, Canada
END:VEVENT
BEGIN:VEVENT
DTSTART;TZID=America/Vancouver:20231002T133000
DTEND;TZID=America/Vancouver:20231002T153000
DTSTAMP:20260424T025140
CREATED:20230919T203607Z
LAST-MODIFIED:20230919T203607Z
UID:14591-1696253400-1696260600@www.exploresidney.ca
SUMMARY:Scrabble Drop-in
DESCRIPTION:Join us for fun and friendly competition! \n\nScrabble sets available\nBring your own set if you have one\nAll skill levels welcome!
URL:https://www.exploresidney.ca/event/scrabble-drop-in-5/
LOCATION:Sidney/North Saanich Branch Library\, 10091 Resthaven Drive\, Sidney\, V8L 3G3
END:VEVENT
BEGIN:VEVENT
DTSTART;TZID=America/Vancouver:20231002T183000
DTEND;TZID=America/Vancouver:20231002T200000
DTSTAMP:20260424T025140
CREATED:20230919T191718Z
LAST-MODIFIED:20230919T191718Z
UID:14581-1696271400-1696276800@www.exploresidney.ca
SUMMARY:Virtual Gardening Series: Ask a Master Gardener Anything
DESCRIPTION:We have a panel of Master Gardeners who are going to answer YOUR Fall/Winter gardening questions! Presented in partnership with VIMGA. \nThe Vancouver Island Master Gardeners Association (VIMGA) is a chapter of the Master Gardeners Association\, an international service society of specially trained volunteers who teach science-based sustainable gardening practices to home gardeners. VIMGA is one of the 5 chapters in the British Columbia Association and partnering with the Victoria chapter\, specializes in the stewardship of Vancouver Island’s unique environment.
URL:https://www.exploresidney.ca/event/virtual-gardening-series-ask-a-master-gardener-anything/
LOCATION:BC
END:VEVENT
BEGIN:VEVENT
DTSTART;TZID=America/Vancouver:20231002T190000
DTEND;TZID=America/Vancouver:20231002T190000
DTSTAMP:20260424T025140
CREATED:20230919T182153Z
LAST-MODIFIED:20230919T182153Z
UID:14549-1696273200-1696273200@www.exploresidney.ca
SUMMARY:The Peninsula Garden Club with Jeff Dejong
DESCRIPTION:To our October general meeting\, to be held in the Bodine Hall of the Mary Winspear Centre\, 2243 Beacon Avenue\, Sidney BC The meeting will be held at 7 p.m. on Monday\, October 2. Business meeting begins at 7 p.m.\, speaker at approximately 7:40 p.m. Guests are welcome at a cost of $5 at the door. Guest fee can be applied to a Garden Club membership.
URL:https://www.exploresidney.ca/event/the-peninsula-garden-club-with-jeff-dejong/
LOCATION:Mary Winspear Centre\, 2243 Beacon Avenue\, Sidney\, British Columbia\, V8L 1W9\, Canada
ORGANIZER;CN="Peninsula Garden Club":MAILTO:secretary.pgclub@gmail.com
END:VEVENT
BEGIN:VEVENT
DTSTART;TZID=America/Vancouver:20231002T193000
DTEND;TZID=America/Vancouver:20231002T193000
DTSTAMP:20260424T025140
CREATED:20230613T192106Z
LAST-MODIFIED:20230613T192106Z
UID:13316-1696275000-1696275000@www.exploresidney.ca
SUMMARY:Pavlo in Concert
DESCRIPTION:Pavlo\, a true World Music Artist returns from filming his 4th PBS TV Concert Special – Live in Santorini\, Greece.  Pavlo will be joined on stage by his world class band.\nEnjoy an evening of Mediterranean guitar and imagine you’re on the island of Santorini for a few hours as you enjoy this feel good concert with Pavlo’s signature blend of Spanish/Greek/Rumba/Flamenco music. OPA!
URL:https://www.exploresidney.ca/event/pavlo-in-concert/
LOCATION:Mary Winspear Centre\, 2243 Beacon Avenue\, Sidney\, British Columbia\, V8L 1W9\, Canada
END:VEVENT
BEGIN:VEVENT
DTSTART;TZID=America/Vancouver:20231004T090000
DTEND;TZID=America/Vancouver:20231004T223000
DTSTAMP:20260424T025140
CREATED:20230723T183525Z
LAST-MODIFIED:20230723T184018Z
UID:14161-1696410000-1696458600@www.exploresidney.ca
SUMMARY:Active Aging Week - Group Weight Training Orientation
DESCRIPTION:FREE Group Weight Training Orientation*\n9:15-10:15am\n@ Panorama #12220 \nActive Aging Week challenges society’s diminished expectations of aging by showing that\,\nregardless of age or health conditions\, adults over 50 can live as fully as possible in all areas of life—\nphysical\, social\, spiritual\, emotional\, intellectual\, vocational and environmental.\nCelebrate with us by joining these FREE activities! \n*Registration required
URL:https://www.exploresidney.ca/event/active-aging-week-group-weight-training-orientation/
LOCATION:Panorama Recreation Centre\, 1885 Forest Park Drive\, North Saanich\, BC\, V8L 4A3\, Canada
END:VEVENT
BEGIN:VEVENT
DTSTART;TZID=America/Vancouver:20231005T103000
DTEND;TZID=America/Vancouver:20231005T111500
DTSTAMP:20260424T025140
CREATED:20230915T224903Z
LAST-MODIFIED:20230915T224903Z
UID:14501-1696501800-1696504500@www.exploresidney.ca
SUMMARY:Good Moring Storytime
DESCRIPTION:Bring your littlest ones to the library for stories\, songs\, rhymes\, and movement. Every Thursday morning from September 14 – October 26. Ages 0-5. Drop-in. \n**PLEASE NOTE: We will be taking Storytime to the Sidney All Care Auditorium (2269 Mills Rd.) on September 28 & October 26. We hope you can join us!
URL:https://www.exploresidney.ca/event/good-moring-storytime/
LOCATION:Sidney/North Saanich Branch Library\, 10091 Resthaven Drive\, Sidney\, V8L 3G3
END:VEVENT
BEGIN:VEVENT
DTSTART;TZID=America/Vancouver:20231005T120000
DTEND;TZID=America/Vancouver:20231005T133000
DTSTAMP:20260424T025140
CREATED:20230723T183824Z
LAST-MODIFIED:20230723T183824Z
UID:14163-1696507200-1696512600@www.exploresidney.ca
SUMMARY:Active Aging Week - Adult Skate
DESCRIPTION:FREE Adult Skate\n12-1:20pm\n@ Panorama \nActive Aging Week challenges society’s diminished expectations of aging by showing that\,\nregardless of age or health conditions\, adults over 50 can live as fully as possible in all areas of life—\nphysical\, social\, spiritual\, emotional\, intellectual\, vocational and environmental.\nCelebrate with us by joining these FREE activities!
URL:https://www.exploresidney.ca/event/active-aging-week-adult-skate/
LOCATION:Panorama Recreation Centre\, 1885 Forest Park Drive\, North Saanich\, BC\, V8L 4A3\, Canada
END:VEVENT
BEGIN:VEVENT
DTSTART;TZID=America/Vancouver:20231006T140000
DTEND;TZID=America/Vancouver:20231006T150000
DTSTAMP:20260424T025140
CREATED:20230723T183946Z
LAST-MODIFIED:20230723T183946Z
UID:14165-1696600800-1696604400@www.exploresidney.ca
SUMMARY:Active Aging Week - Light n' Easy Aquafit
DESCRIPTION:FREE Light ‘n Easy Aquafit\n2-3pm\n@ Panorama \nActive Aging Week challenges society’s diminished expectations of aging by showing that\,\nregardless of age or health conditions\, adults over 50 can live as fully as possible in all areas of life—\nphysical\, social\, spiritual\, emotional\, intellectual\, vocational and environmental.\nCelebrate with us by joining these FREE activities!
URL:https://www.exploresidney.ca/event/active-aging-week-light-n-easy-aquafit/
LOCATION:Panorama Recreation Centre\, 1885 Forest Park Drive\, North Saanich\, BC\, V8L 4A3\, Canada
END:VEVENT
BEGIN:VEVENT
DTSTART;TZID=America/Vancouver:20231006T193000
DTEND;TZID=America/Vancouver:20231006T193000
DTSTAMP:20260424T025140
CREATED:20230613T192249Z
LAST-MODIFIED:20230613T192249Z
UID:13318-1696620600-1696620600@www.exploresidney.ca
SUMMARY:Texas Flood Ft. Paul Kype
DESCRIPTION:A masterful guitarist\, Paul has been playing since the age of ten. Drawing upon Influences of guitar legends such as Jimi Hendrix\, BB King\, Eric Clapton\, and of course Stevie himself\, “Texas Flood” was formed as a world class tribute to the great Stevie Ray Vaughan. \nOver the years\, Paul has honed his skill to perfection\, vocally as well as instrumentally. He honours the songs in great detail\, especially the signature solos that SRV was known for. \nAfter Paul’s SRV solos\, it is not uncommon to hear people cheering jubilantly while shaking their heads in disbelief.
URL:https://www.exploresidney.ca/event/texas-flood-ft-paul-kype/
LOCATION:Mary Winspear Centre\, 2243 Beacon Avenue\, Sidney\, British Columbia\, V8L 1W9\, Canada
END:VEVENT
BEGIN:VEVENT
DTSTART;TZID=America/Vancouver:20231007T093000
DTEND;TZID=America/Vancouver:20231007T120000
DTSTAMP:20260424T025140
CREATED:20230613T213043Z
LAST-MODIFIED:20230613T213043Z
UID:13372-1696671000-1696680000@www.exploresidney.ca
SUMMARY:North Saanich Farm Market
DESCRIPTION:Operating every Saturday morning from the start of June through to October\, the North Saanich Farm Market is full of community spirit\, where the Peninsula’s top food producers display fresh fruits and vegetables\, local lamb\, beef\, and seafood – and some of the most coveted fresh baked breads in the region.
URL:https://www.exploresidney.ca/event/north-saanich-farm-market-17/
LOCATION:10990 West Saanich Rd\, 10990 West Saanich Rd\, North Saanich\, BC\, Canada
END:VEVENT
END:VCALENDAR