BEGIN:VCALENDAR
VERSION:2.0
PRODID:-//Sidney BIA - ECPv6.15.20//NONSGML v1.0//EN
CALSCALE:GREGORIAN
METHOD:PUBLISH
X-WR-CALNAME:Sidney BIA
X-ORIGINAL-URL:https://www.exploresidney.ca
X-WR-CALDESC:Events for Sidney BIA
REFRESH-INTERVAL;VALUE=DURATION:PT1H
X-Robots-Tag:noindex
X-PUBLISHED-TTL:PT1H
BEGIN:VTIMEZONE
TZID:America/Vancouver
BEGIN:DAYLIGHT
TZOFFSETFROM:-0800
TZOFFSETTO:-0700
TZNAME:PDT
DTSTART:20220313T100000
END:DAYLIGHT
BEGIN:STANDARD
TZOFFSETFROM:-0700
TZOFFSETTO:-0800
TZNAME:PST
DTSTART:20221106T090000
END:STANDARD
BEGIN:DAYLIGHT
TZOFFSETFROM:-0800
TZOFFSETTO:-0700
TZNAME:PDT
DTSTART:20230312T100000
END:DAYLIGHT
BEGIN:STANDARD
TZOFFSETFROM:-0700
TZOFFSETTO:-0800
TZNAME:PST
DTSTART:20231105T090000
END:STANDARD
BEGIN:DAYLIGHT
TZOFFSETFROM:-0800
TZOFFSETTO:-0700
TZNAME:PDT
DTSTART:20240310T100000
END:DAYLIGHT
BEGIN:STANDARD
TZOFFSETFROM:-0700
TZOFFSETTO:-0800
TZNAME:PST
DTSTART:20241103T090000
END:STANDARD
END:VTIMEZONE
BEGIN:VEVENT
DTSTART;TZID=America/Vancouver:20230814T120000
DTEND;TZID=America/Vancouver:20230814T180000
DTSTAMP:20260424T211151
CREATED:20230723T170217Z
LAST-MODIFIED:20230723T170217Z
UID:14143-1692014400-1692036000@www.exploresidney.ca
SUMMARY:Blood Donor Clinic
DESCRIPTION:People across Canada are aware the need for blood and plasma is constant. But nearly 50% say they have never donated because they have never been asked. \nSo the Canadian Blood Services is asking\,  in as many ways possible\, to make a blood or plasma donation part of your summer plans. \nOn August 14th\, from 12pm-6pm\, stop by the Mary Winspear Centre to make a donation\, and help fellow Canadians in need.
URL:https://www.exploresidney.ca/event/blood-donor-clinic-4/
LOCATION:Mary Winspear Centre\, 2243 Beacon Avenue\, Sidney\, British Columbia\, V8L 1W9\, Canada
END:VEVENT
BEGIN:VEVENT
DTSTART;TZID=America/Vancouver:20230813T140000
DTEND;TZID=America/Vancouver:20230813T160000
DTSTAMP:20260424T211151
CREATED:20230612T223015Z
LAST-MODIFIED:20230612T223015Z
UID:13295-1691935200-1691942400@www.exploresidney.ca
SUMMARY:Summer Sounds Concert - Soul Shakers
DESCRIPTION:Top-notch musicianship\, stellar harmonies and high energy performances are a trademark of this fine band. They will have you singing and dancing along to classic popular Soul\, Motown and RnB tunes as well as many other popular tunes.
URL:https://www.exploresidney.ca/event/summer-sounds-concert-soul-shakers/
LOCATION:Beacon Park\, 9801 Seaport Place\, Sidney\, V8L 4X3
ORGANIZER;CN="Peninsula Celebrations Society":MAILTO:info@peninsulacelebrations.ca
END:VEVENT
BEGIN:VEVENT
DTSTART;TZID=America/Vancouver:20230813T100000
DTEND;TZID=America/Vancouver:20230813T140000
DTSTAMP:20260424T211151
CREATED:20230523T184524Z
LAST-MODIFIED:20230523T184524Z
UID:12911-1691920800-1691935200@www.exploresidney.ca
SUMMARY:Westcoast Farmer's Market
DESCRIPTION:Join us this summer to support our local farmers\, producers and other vendors with our Sunday’s farmer market. Outside the Mary Winspear Centre\, from 10am-2pm\, June 25th – August 27th.
URL:https://www.exploresidney.ca/event/westcoast-farmers-market-8/
LOCATION:Mary Winspear Centre\, 2243 Beacon Avenue\, Sidney\, British Columbia\, V8L 1W9\, Canada
END:VEVENT
BEGIN:VEVENT
DTSTART;TZID=America/Vancouver:20230813T093000
DTEND;TZID=America/Vancouver:20230813T120000
DTSTAMP:20260424T211151
CREATED:20230614T222639Z
LAST-MODIFIED:20230614T222639Z
UID:13412-1691919000-1691928000@www.exploresidney.ca
SUMMARY:Tide Ticklers - 5 & Under!
DESCRIPTION:Come prepared to get your feet wet! On this gentle introduction to beach exploration\, you and your little ones will enjoy a short story and engaging activities. \nThere is no fee for this program but you must pre-register by August 9th as space is limited. \nTimes are 9:30-10:30am & 11am-12pm \nVisit www.crd.bc.ca/parks-events \nTrail Description: 300m; gravel surface and rocky beach; slight incline
URL:https://www.exploresidney.ca/event/tide-ticklers-5-under/
LOCATION:Coles Bay Regional Park\, 9324 Inverness Road\, North Saanich\, BC\, V8L 5G1\, Canada
END:VEVENT
BEGIN:VEVENT
DTSTART;TZID=America/Vancouver:20230812T214500
DTEND;TZID=America/Vancouver:20230812T221500
DTSTAMP:20260424T211151
CREATED:20230715T230358Z
LAST-MODIFIED:20230715T230358Z
UID:13716-1691876700-1691878500@www.exploresidney.ca
SUMMARY:Fireworks at The Butchart Gardens
DESCRIPTION:Saturday evenings\, from July 1 – September 2\, bring a blanket or lawn chair and enjoy our world-class firework show with your friends and family. Each show features original aerial and ground displays designed and choreographed to music\, by Jennie Butchart’s great-grandson\, Christopher Ross. Fireworks are included with your admission to The Gardens. \nFireworks are presented after weekly consultation with the Central Saanich Fire Department and may be cancelled due to extreme weather. Please continue to check back for updates. We do not issue refunds due to weather.
URL:https://www.exploresidney.ca/event/fireworks-at-the-butchart-gardens-4/
LOCATION:The Butchart Gardens\, 800 Benvenuto Avenue\, Brentwood Bay\, BC\, V8M 1J8\, Canada
ATTACH;FMTTYPE=image/png:https://www.exploresidney.ca/wp-content/uploads/2023/07/FWs-small-centered-4.png
ORGANIZER;CN="The Butchart Gardens":MAILTO:email@butchartgardens.com
END:VEVENT
BEGIN:VEVENT
DTSTART;TZID=America/Vancouver:20230812T190000
DTEND;TZID=America/Vancouver:20230812T210000
DTSTAMP:20260424T211151
CREATED:20230726T221825Z
LAST-MODIFIED:20230726T221825Z
UID:14068-1691866800-1691874000@www.exploresidney.ca
SUMMARY:St Paul's presents – Edie Daponte Trio
DESCRIPTION:‘From Paris to Rio’.\n…classic songs in English\, French\, Portuguese and Spanish. \n‘Join Edie Daponte and Friends for this globally inspired show\, a fusion of jazz and world music as local favourite Edie shares her voice alongside celebrated musicians Attila Fias on piano and Joey Smith on bass.’
URL:https://www.exploresidney.ca/event/st-pauls-presents-edie-daponte-trio/
LOCATION:St. Paul’s United Church – 2410 Malaview Road\, Sidney\, St. Paul’s United Church 2410 Malaview Road\, Sidney BC\, V8L 2G3
ATTACH;FMTTYPE=image/jpeg:https://www.exploresidney.ca/wp-content/uploads/2023/07/Edie-paris-to-rio-v2.jpg
ORGANIZER;CN="Geoff Brannon":MAILTO:magnolia4events@gmail.com
END:VEVENT
BEGIN:VEVENT
DTSTART;TZID=America/Vancouver:20230812T181500
DTEND;TZID=America/Vancouver:20230812T201500
DTSTAMP:20260424T211151
CREATED:20230715T230412Z
LAST-MODIFIED:20230715T230412Z
UID:13711-1691864100-1691871300@www.exploresidney.ca
SUMMARY:The Sutcliffes at The Butchart Gardens
DESCRIPTION:Join us on Saturday\, August 12 to enjoy a live performance at our open-air stage. Following the concert\, stroll over to the Fireworks lawn to take in the spectacular show. Fireworks begin at 9:15 pm sharp\, rain or shine. \nPlease visit our website for hours\, amenities\, and rates.
URL:https://www.exploresidney.ca/event/the-sutcliffes-at-the-butchart-gardens/
LOCATION:The Butchart Gardens\, 800 Benvenuto Avenue\, Brentwood Bay\, BC\, V8M 1J8\, Canada
ATTACH;FMTTYPE=image/png:https://www.exploresidney.ca/wp-content/uploads/2023/07/Aug-12.png
ORGANIZER;CN="The Butchart Gardens":MAILTO:email@butchartgardens.com
END:VEVENT
BEGIN:VEVENT
DTSTART;TZID=America/Vancouver:20230812T100000
DTEND;TZID=America/Vancouver:20230813T160000
DTSTAMP:20260424T211151
CREATED:20230802T191658Z
LAST-MODIFIED:20230802T191658Z
UID:14318-1691834400-1691942400@www.exploresidney.ca
SUMMARY:Story Workshop Weekend (16+)
DESCRIPTION:Led by professional writer and editor\, Angela Cowan\, participants will get an opportunity to dig a little deeper into a story idea and begin to flesh it out on the page. Course includes writing exercises to get a creative juices flowing\, individual and group work and helpful feedback. \nBring a notebook and pen. \n 
URL:https://www.exploresidney.ca/event/story-workshop-weekend-16/
LOCATION:McTavish Academy of Arts\, 1720 McTavish Rd\, North Saanich\, British Columbia\, V8L-5T9\, Canada
END:VEVENT
BEGIN:VEVENT
DTSTART;TZID=America/Vancouver:20230812T100000
DTEND;TZID=America/Vancouver:20230812T160000
DTSTAMP:20260424T211151
CREATED:20230808T181929Z
LAST-MODIFIED:20230808T181929Z
UID:14332-1691834400-1691856000@www.exploresidney.ca
SUMMARY:Sidney's Summer Sidewalk Sale
DESCRIPTION:Head on out and take a stroll through downtown Sidney as over 50 businesses are ready to step outside their storefronts and offer massive discounts on merchandise. \nYou’ll also be able to enjoy live music at the corner of Beacon and Fourth Street as performances play on stage throughout this event. \nVisit the on-site photo booth\, take your kids to get their face painted at Buddies Toys\, or head down to Beacon Park to enjoy some lawn games. Make a great day out of this annual event!
URL:https://www.exploresidney.ca/event/sidneys-summer-sidewalk-sale/
LOCATION:Beacon Avenue\, Beacon Avenue\, Sidney\, BC\, Canada
END:VEVENT
BEGIN:VEVENT
DTSTART;TZID=America/Vancouver:20230812T093000
DTEND;TZID=America/Vancouver:20230812T120000
DTSTAMP:20260424T211151
CREATED:20230614T222148Z
LAST-MODIFIED:20230614T222148Z
UID:13410-1691832600-1691841600@www.exploresidney.ca
SUMMARY:Exploring Indigenous Perspectives Through Storytelling - 5 & Under
DESCRIPTION:Bring your little ones on this guided walk exploring the cultural significance of birds and animals through a First Peoples lens. The cultural lessons and values shared through the time-honoured tradition of storytelling will amaze you and your little ones. \nWe will discover how First Peoples passed down important teachings from their respective territories to upcoming generations. We will move along the trail and meet some interesting characters who will share their knowledge and wisdom to help us gain an understanding of how they are interconnected with First Peoples. \nThere is no fee for this program but you must pre-register by August 8th as space is limited. Visit www.crd.bc.ca/parks-events \nTimes are 9:30am-10:30am & 11:00am-12:00pm \nTrail description: 800m; compact surface with roots; no incline. Wheelchair accessible
URL:https://www.exploresidney.ca/event/exploring-indigenous-perspectives-through-storytelling-5-under/
LOCATION:Elk/Beaver Lake Regional Park\, 5267 Patricia Bay Hwy\, Victoria\, BC\, Canada
END:VEVENT
BEGIN:VEVENT
DTSTART;TZID=America/Vancouver:20230812T093000
DTEND;TZID=America/Vancouver:20230812T120000
DTSTAMP:20260424T211151
CREATED:20230613T210743Z
LAST-MODIFIED:20230613T210743Z
UID:13354-1691832600-1691841600@www.exploresidney.ca
SUMMARY:North Saanich Farm Market
DESCRIPTION:Operating every Saturday morning from the start of June through to October\, the North Saanich Farm Market is full of community spirit\, where the Peninsula’s top food producers display fresh fruits and vegetables\, local lamb\, beef\, and seafood – and some of the most coveted fresh baked breads in the region.
URL:https://www.exploresidney.ca/event/north-saanich-farm-market-8/
LOCATION:10990 West Saanich Rd\, 10990 West Saanich Rd\, North Saanich\, BC\, Canada
END:VEVENT
BEGIN:VEVENT
DTSTART;TZID=America/Vancouver:20230811T200000
DTEND;TZID=America/Vancouver:20230811T213000
DTSTAMP:20260424T211151
CREATED:20230715T230428Z
LAST-MODIFIED:20230715T230428Z
UID:13706-1691784000-1691789400@www.exploresidney.ca
SUMMARY:Paul Pigat & The Smoking Jackets at The Butchart Gardens
DESCRIPTION:Join us Friday\, August 11 to enjoy a live performance at our open-air stage. Come sit on a bench\, or bring a blanket and sit on the lawn. Following the concerts\, The Gardens are open until 11:00 pm for Night Illuminations viewing. \nPlease visit our website for hours\, amenities\, and rates.
URL:https://www.exploresidney.ca/event/paul-pigat-the-smoking-jackets-at-the-butchart-gardens/
LOCATION:The Butchart Gardens\, 800 Benvenuto Avenue\, Brentwood Bay\, BC\, V8M 1J8\, Canada
ATTACH;FMTTYPE=image/png:https://www.exploresidney.ca/wp-content/uploads/2023/07/Aug-11-8pm.png
ORGANIZER;CN="The Butchart Gardens":MAILTO:email@butchartgardens.com
END:VEVENT
BEGIN:VEVENT
DTSTART;TZID=America/Vancouver:20230811T100000
DTEND;TZID=America/Vancouver:20230817T160000
DTSTAMP:20260424T211151
CREATED:20230802T175949Z
LAST-MODIFIED:20230802T175949Z
UID:14306-1691748000-1692288000@www.exploresidney.ca
SUMMARY:ArtSea Gallery - All Paintings Great and Small
DESCRIPTION:Show hours: 10am – 4pm\, daily \nOpening night: Saturday Aug 12th 5-7pm \nThree island artists bring you an eclectic selection of paintings\, prints and cards. From the abstract to the very realistic these artists offer large colourful canvases\, small acrylics\, prints on paper and wood and some works on paper. These vary from the very large to the “teacup” variety. \nParticipants include: \n\nDonna Dubock\nGodoroja\nElisabeth Jahren
URL:https://www.exploresidney.ca/event/artsea-gallery-all-paintings-great-and-small/
LOCATION:ArtSea Gallery in Tulista Park\, 9565 Fifth Street\, Sidney\, British Columbia\, Canada
ORGANIZER;CN="ArtSea Community Arts Council":MAILTO:artseagallery@artsea.ca
END:VEVENT
BEGIN:VEVENT
DTSTART;TZID=America/Vancouver:20230811T100000
DTEND;TZID=America/Vancouver:20230811T140000
DTSTAMP:20260424T211151
CREATED:20230802T185208Z
LAST-MODIFIED:20230802T185208Z
UID:14316-1691748000-1691762400@www.exploresidney.ca
SUMMARY:Head Out & Read Event
DESCRIPTION:Saanich Peninsula Literacy in partnership with the Greater Victoria Public Library and Peninsula 1000 x 5 Book Recycling Project offers an opportunity to enjoy reading books\, music\, a self guided Storywalk\, all in the summer sunshine. \nFree event. www.saanichpeninsulaliteracy.com
URL:https://www.exploresidney.ca/event/head-out-read-event/
LOCATION:Iroquois Park\, 2295 Ocean Avenue\, Sidney\, BC\, V8L 3Y4\, Canada
ORGANIZER;CN="Saanich Peninsula Literacy":MAILTO:smsleight@gmail.com
END:VEVENT
BEGIN:VEVENT
DTSTART;TZID=America/Vancouver:20230810T200000
DTEND;TZID=America/Vancouver:20230810T220000
DTSTAMP:20260424T211151
CREATED:20230725T165525Z
LAST-MODIFIED:20230725T165525Z
UID:14179-1691697600-1691704800@www.exploresidney.ca
SUMMARY:Small Gods - Market After Party
DESCRIPTION:Visit Small Gods Brewing Co. after an exciting evening at the Sidney Street Market for a fun after party! \nThursdays\, 8:00pm – 10:00pm \n$6 Full pour beers | $10 Glasses of white wine | $10 Margaritas | $10 Full pour Ciders \n+ Taxes & Gratuities
URL:https://www.exploresidney.ca/event/small-gods-market-after-party-3/
LOCATION:Small Gods Brewing Co.\, 9835 third st\, sidney\, v8l 3a7\, Canada
ORGANIZER;CN="Small Gods Brewing Co.":MAILTO:hello@smallgods.ca
END:VEVENT
BEGIN:VEVENT
DTSTART;TZID=America/Vancouver:20230810T200000
DTEND;TZID=America/Vancouver:20230810T213000
DTSTAMP:20260424T211151
CREATED:20230715T230443Z
LAST-MODIFIED:20230715T230443Z
UID:13701-1691697600-1691703000@www.exploresidney.ca
SUMMARY:Miss Emily at The Butchart Gardens
DESCRIPTION:Join us Thursday\, August 10 to enjoy a live performance at our open-air stage. Come sit on a bench\, or bring a blanket and sit on the lawn. Following the concerts\, The Gardens are open until 11:00 pm for Night Illuminations viewing. \nPlease visit our website for hours\, amenities\, and rates.
URL:https://www.exploresidney.ca/event/miss-emily-at-the-butchart-gardens/
LOCATION:The Butchart Gardens\, 800 Benvenuto Avenue\, Brentwood Bay\, BC\, V8M 1J8\, Canada
ATTACH;FMTTYPE=image/png:https://www.exploresidney.ca/wp-content/uploads/2023/07/Aug-10-8pm.png
ORGANIZER;CN="The Butchart Gardens":MAILTO:email@butchartgardens.com
END:VEVENT
BEGIN:VEVENT
DTSTART;TZID=America/Vancouver:20230810T193000
DTEND;TZID=America/Vancouver:20230810T193000
DTSTAMP:20260424T211151
CREATED:20230720T224426Z
LAST-MODIFIED:20230720T224426Z
UID:14112-1691695800-1691695800@www.exploresidney.ca
SUMMARY:Buffy Sainte-Marie
DESCRIPTION:Buffy Sainte-Marie is recognized and celebrated as one of the most important and impactful Indigenous artist of all time. Over the course of her six-decade career\, Buffy has inspired multiple generations of musicians\, artists and activists. The powerful\, raw singer/songwriter with unmatched scope has steadfastly refused to be trapped in the patterns of the past or be entangled in the workings of the contemporary music industry. Since her groundbreaking debut album It’s My Way!(1964)\, the Cree singer-songwriter has been an informative advocate for Indigenous cultural awareness. \nHer appearances on “Sesame Street” enriched public-access television with important subjects such as breast feeding\, sibling rivalry\, and Native American language and culture. When she agreed to take an acting role in the TV series\, The Virginian\, it was conditional that Indigenous roles be filled by Indigenous actors. \nIn addition to winning countless Canadian JUNO Awards and being inducted into the Canadian Music Hall of Fame\, she helped to found the Juno Awards category Music of Aboriginal Canada. Buffy was the first Indigenous person to take home an Academy Award as co-writer of “Up Where We Belong” in 1983 for Best Original Song from the film An Officer and a Gentleman\, which also won Golden Globe and BAFTA honours. She has a star on Canada’s Walk of Fame and received Hollywood’s Screen Actors Guild Lifetime Achievement Award.
URL:https://www.exploresidney.ca/event/buffy-sainte-marie-2/
LOCATION:Mary Winspear Centre\, 2243 Beacon Avenue\, Sidney\, British Columbia\, V8L 1W9\, Canada
END:VEVENT
BEGIN:VEVENT
DTSTART;TZID=America/Vancouver:20230810T173000
DTEND;TZID=America/Vancouver:20230810T203000
DTSTAMP:20260424T211151
CREATED:20230523T190734Z
LAST-MODIFIED:20230523T190734Z
UID:12934-1691688600-1691699400@www.exploresidney.ca
SUMMARY:Westcoast Thursday Evening Market
DESCRIPTION:Join us outside the Mary Winspear Centre to support local vendors selling food and produce\, all while enjoying live music. Every Thursday from 5:30pm-8:30pm from June 15th-August 31st.
URL:https://www.exploresidney.ca/event/westcoast-thursday-evening-market-8/
LOCATION:Mary Winspear Centre\, 2243 Beacon Avenue\, Sidney\, British Columbia\, V8L 1W9\, Canada
END:VEVENT
BEGIN:VEVENT
DTSTART;TZID=America/Vancouver:20230810T173000
DTEND;TZID=America/Vancouver:20230810T203000
DTSTAMP:20260424T211151
CREATED:20230503T201651Z
LAST-MODIFIED:20230503T201651Z
UID:12642-1691688600-1691699400@www.exploresidney.ca
SUMMARY:Sidney Street Market
DESCRIPTION:The Sidney Street Market is a spectacular festival on the charming main street of Beacon Avenue offering everything from locally grown produce\, home baked goods\, artisan jewelry\, crafts\, gifts\, mouth-watering food and live music. \nThe iconic Sidney Street Market features dozens of vendors and welcomes thousands of residents and visitors every Thursday from 5:30 pm – 8:30 pm on Beacon Avenue from June 15 to September 14. \nFor more information – www.sidneymarket.ca
URL:https://www.exploresidney.ca/event/sidney-street-market-6/
LOCATION:Downtown Sidney\, Downtown Sidney\, Sidney\, BC\, V8L 1X6
ATTACH;FMTTYPE=image/jpeg:https://www.exploresidney.ca/wp-content/uploads/2023/05/Facebook-Event-Cover-5.jpg
END:VEVENT
BEGIN:VEVENT
DTSTART;TZID=America/Vancouver:20230810T173000
DTEND;TZID=America/Vancouver:20230810T200000
DTSTAMP:20260424T211151
CREATED:20230523T204340Z
LAST-MODIFIED:20230523T204340Z
UID:13014-1691688600-1691697600@www.exploresidney.ca
SUMMARY:Play In The Park
DESCRIPTION:Every Tuesday\, Wednesday and Thursday evening through July & August\, join Panorama staff from 5:30-8pm for some FREE summer fun for the whole family that includes interactive play\, group games\, and of course\, inflatable fun on our giant 50’ obstacle course!
URL:https://www.exploresidney.ca/event/play-in-the-park-46/
LOCATION:Centennial Park\, 1800 Hovey Rd\, Central Saanich\, British Columbia
END:VEVENT
BEGIN:VEVENT
DTSTART;TZID=America/Vancouver:20230810T130000
DTEND;TZID=America/Vancouver:20230810T150000
DTSTAMP:20260424T211151
CREATED:20230808T224201Z
LAST-MODIFIED:20230808T224201Z
UID:14351-1691672400-1691679600@www.exploresidney.ca
SUMMARY:Sea Shirts - Shaw Centre for Salish Sea
DESCRIPTION:Create your own fish fashion! \nBe sure to bring along: \n\n\nA pillow case\, cloth bag or t-shirt (or purchase a t-shirt or bag\, $7.00. from the Centre) \n\n\n$2 for fabric paint \n\n\nYour creativity \n\n\nDetails: \n\n\nFish molds provided \n\n\nSuitable for all ages \n\n\nChildren must be accompanied by an adult \n\n\nNo registration required \n\n\nStandard admission rates apply; memberships and annual passes accepted
URL:https://www.exploresidney.ca/event/sea-shirts-shaw-centre-for-salish-sea/
LOCATION:Shaw Centre for the Salish Sea\, 9811 Seaport Place\, Sidney\, BC\, V8L4X3\, Canada
ORGANIZER;CN="Shaw Centre for the Salish Sea":MAILTO:info@salishseacentre.org
END:VEVENT
BEGIN:VEVENT
DTSTART;TZID=America/Vancouver:20230809T200000
DTEND;TZID=America/Vancouver:20230809T213000
DTSTAMP:20260424T211151
CREATED:20230715T230501Z
LAST-MODIFIED:20230715T230501Z
UID:13696-1691611200-1691616600@www.exploresidney.ca
SUMMARY:Unfaithful Servants at The Butchart Gardens
DESCRIPTION:Join us Wednesday\, August 9 to enjoy a live performance at our open-air stage. Come sit on a bench\, or bring a blanket and sit on the lawn. Following the concerts\, The Gardens are open until 11:00 pm for Night Illuminations viewing. \nPlease visit our website for hours\, amenities\, and rates.
URL:https://www.exploresidney.ca/event/unfaithful-servants-at-the-butchart-gardens/
LOCATION:The Butchart Gardens\, 800 Benvenuto Avenue\, Brentwood Bay\, BC\, V8M 1J8\, Canada
ATTACH;FMTTYPE=image/png:https://www.exploresidney.ca/wp-content/uploads/2023/07/Aug-9.png
ORGANIZER;CN="The Butchart Gardens":MAILTO:email@butchartgardens.com
END:VEVENT
BEGIN:VEVENT
DTSTART;TZID=America/Vancouver:20230809T183000
DTEND;TZID=America/Vancouver:20230809T203000
DTSTAMP:20260424T211151
CREATED:20230802T173846Z
LAST-MODIFIED:20230802T173846Z
UID:14300-1691605800-1691613000@www.exploresidney.ca
SUMMARY:Music in the Park - Shaky Ground
DESCRIPTION:Victoria’s premier party band\, playing all the hits! Bring your dancing shoes! \nAbout Music In the Park: \nThe power of friendship. It can never be underestimated. \nIt started with the enthusiasm of a small group of friends keen to build community spirit. For 25 years\, the Brentwood Bay Community Association has continued this mandate. Each year it hosts the Brentwood Bay Festival\, Music in the Park and Christmas Light-Up events which offer opportunities for community members to come together\, make new friends\, celebrate music and the arts\, and create community and connection. \nMusic in the Park is a free community event featuring a great lineup of music to enjoy in the summer evenings! Bring your own picnic fixing or purchase refreshments from one of the onsite food vendors. Fully accessible and wheelchair friendly.
URL:https://www.exploresidney.ca/event/music-in-the-park-shaky-ground-2/
LOCATION:Pioneer Park\, 7130 West Saanich Road\, Brentwood Bay\, BC\, V8M 1P8\, Canada
END:VEVENT
BEGIN:VEVENT
DTSTART;TZID=America/Vancouver:20230809T180000
DTEND;TZID=America/Vancouver:20230809T190000
DTSTAMP:20260424T211151
CREATED:20230523T202237Z
LAST-MODIFIED:20230523T202237Z
UID:12980-1691604000-1691607600@www.exploresidney.ca
SUMMARY:Yoga In The Park
DESCRIPTION:Join us for FREE Yoga in the Park. This outside Hatha Yoga class will bring awareness of breath in combination with traditional yoga poses. All levels welcome. Children under 12 years require guardian supervision. Weather dependent. Please bring your own mat.
URL:https://www.exploresidney.ca/event/yoga-in-the-park-6/
LOCATION:Tulista Park\, 9565 5th Street\, Sidney\, British Columbia\, V8L 2W5\, Canada
END:VEVENT
BEGIN:VEVENT
DTSTART;TZID=America/Vancouver:20230809T173000
DTEND;TZID=America/Vancouver:20230809T200000
DTSTAMP:20260424T211151
CREATED:20230523T203358Z
LAST-MODIFIED:20230523T203358Z
UID:12996-1691602200-1691611200@www.exploresidney.ca
SUMMARY:Play In The Park
DESCRIPTION:Every Tuesday\, Wednesday and Thursday evening through July & August\, join Panorama staff from 5:30-8pm for some FREE summer fun for the whole family that includes interactive play\, group games\, and of course\, inflatable fun on our giant 50’ obstacle course!
URL:https://www.exploresidney.ca/event/play-in-the-park-37/
LOCATION:Tulista Park\, 9565 5th Street\, Sidney\, British Columbia\, V8L 2W5\, Canada
END:VEVENT
BEGIN:VEVENT
DTSTART;TZID=America/Vancouver:20230808T173000
DTEND;TZID=America/Vancouver:20230808T200000
DTSTAMP:20260424T211151
CREATED:20230523T200839Z
LAST-MODIFIED:20230523T200839Z
UID:12962-1691515800-1691524800@www.exploresidney.ca
SUMMARY:Play In The Park
DESCRIPTION:Every Tuesday\, Wednesday and Thursday evening through July & August\, join Panorama staff from 5:30-8pm for some FREE summer fun for the whole family that includes interactive play\, group games\, and of course\, inflatable fun on our giant 50’ obstacle course!
URL:https://www.exploresidney.ca/event/play-in-the-park-29/
LOCATION:KELSET Elementary\, 1800 Forest Park Drive
END:VEVENT
BEGIN:VEVENT
DTSTART;TZID=America/Vancouver:20230806T140000
DTEND;TZID=America/Vancouver:20230806T160000
DTSTAMP:20260424T211151
CREATED:20230612T221350Z
LAST-MODIFIED:20230612T221350Z
UID:13270-1691330400-1691337600@www.exploresidney.ca
SUMMARY:Summer Sounds Concert - Late Shift
DESCRIPTION:Victoria’s newest and oldest all fun\, all the time dance band – with a history that stretches back into infinity they guarantee a good time for all – A spring in every step – a dip in every hip!
URL:https://www.exploresidney.ca/event/summer-sounds-concert-late-shift/
LOCATION:Beacon Park\, 9801 Seaport Place\, Sidney\, V8L 4X3
ORGANIZER;CN="Peninsula Celebrations Society":MAILTO:info@peninsulacelebrations.ca
END:VEVENT
BEGIN:VEVENT
DTSTART;TZID=America/Vancouver:20230806T110000
DTEND;TZID=America/Vancouver:20230806T160000
DTSTAMP:20260424T211151
CREATED:20230802T184505Z
LAST-MODIFIED:20230802T184505Z
UID:14312-1691319600-1691337600@www.exploresidney.ca
SUMMARY:Local Folk Fair
DESCRIPTION:Find 35 amazing hand-selected artisan vendors stretched out amongst the orchard lanes\, plus a lovely variety of experiences including sound healing\, mini reflexology sessions\, tintype photo shoots\, tarot card readings\, an “upcycling station\,” fabulous live folk music\, games\, delicious food and of course some refreshing seasonal cider! \nAdmission $4. \nFor more information visit @makesharevictoria on Instagram or email hello@makeshare.ca
URL:https://www.exploresidney.ca/event/local-folk-fair/
LOCATION:273 Prospect Lake Road\, 273 Prospect Lake Road\, Victoria\, British Columbia\, V9E 1J7\, Canada
END:VEVENT
BEGIN:VEVENT
DTSTART;TZID=America/Vancouver:20230806T100000
DTEND;TZID=America/Vancouver:20230806T140000
DTSTAMP:20260424T211151
CREATED:20230523T184302Z
LAST-MODIFIED:20230523T184302Z
UID:12909-1691316000-1691330400@www.exploresidney.ca
SUMMARY:Westcoast Farmer's Market
DESCRIPTION:Join us this summer to support our local farmers\, producers and other vendors with our Sunday’s farmer market. Outside the Mary Winspear Centre\, from 10am-2pm\, June 25th – August 27th.
URL:https://www.exploresidney.ca/event/westcoast-farmers-market-7/
LOCATION:Mary Winspear Centre\, 2243 Beacon Avenue\, Sidney\, British Columbia\, V8L 1W9\, Canada
END:VEVENT
BEGIN:VEVENT
DTSTART;TZID=America/Vancouver:20230805T190000
DTEND;TZID=America/Vancouver:20230805T210000
DTSTAMP:20260424T211151
CREATED:20230726T221727Z
LAST-MODIFIED:20230726T221727Z
UID:14048-1691262000-1691269200@www.exploresidney.ca
SUMMARY:St Paul's presents – Don Alder
DESCRIPTION:“Alder’s performances are transcendental” George Lynch – Dokken \nAs winner of the 2015 Domenic Troiano Guitar Award (CDN)\, 2011 Worldwide Guitar Idol (held in London\, UK)\, 2010 Guitar Superstar contest (LA\, USA) and the 2007 International Fingerstyle Championships\, Don Alder (from Vancouver\, BC) has earned his place as one of the top acoustic guitarists in the world. \nLast year he was awarded Queen’s Platinum Jubilee Lieutenant Governors 2022 award.\nwww.donalder.com\nepk.donalder.comwww.facebook.com/donalderfanpage\nwww.youtube.com/playthatfunkymusic56\nwww.twitter.com/donalder
URL:https://www.exploresidney.ca/event/st-pauls-presents-don-alder/
LOCATION:St. Paul’s United Church – 2410 Malaview Road\, Sidney\, St. Paul’s United Church 2410 Malaview Road\, Sidney BC\, V8L 2G3
ATTACH;FMTTYPE=image/jpeg:https://www.exploresidney.ca/wp-content/uploads/2023/07/don-alder2.jpg
ORGANIZER;CN="Geoff Brannon":MAILTO:magnolia4events@gmail.com
END:VEVENT
END:VCALENDAR