BEGIN:VCALENDAR
VERSION:2.0
PRODID:-//Sidney BIA - ECPv6.15.20//NONSGML v1.0//EN
CALSCALE:GREGORIAN
METHOD:PUBLISH
X-ORIGINAL-URL:https://www.exploresidney.ca
X-WR-CALDESC:Events for Sidney BIA
REFRESH-INTERVAL;VALUE=DURATION:PT1H
X-Robots-Tag:noindex
X-PUBLISHED-TTL:PT1H
BEGIN:VTIMEZONE
TZID:America/Vancouver
BEGIN:DAYLIGHT
TZOFFSETFROM:-0800
TZOFFSETTO:-0700
TZNAME:PDT
DTSTART:20250309T100000
END:DAYLIGHT
BEGIN:STANDARD
TZOFFSETFROM:-0700
TZOFFSETTO:-0800
TZNAME:PST
DTSTART:20251102T090000
END:STANDARD
BEGIN:DAYLIGHT
TZOFFSETFROM:-0800
TZOFFSETTO:-0700
TZNAME:PDT
DTSTART:20260308T100000
END:DAYLIGHT
BEGIN:STANDARD
TZOFFSETFROM:-0700
TZOFFSETTO:-0800
TZNAME:PST
DTSTART:20261101T090000
END:STANDARD
BEGIN:DAYLIGHT
TZOFFSETFROM:-0800
TZOFFSETTO:-0700
TZNAME:PDT
DTSTART:20270314T100000
END:DAYLIGHT
BEGIN:STANDARD
TZOFFSETFROM:-0700
TZOFFSETTO:-0800
TZNAME:PST
DTSTART:20271107T090000
END:STANDARD
END:VTIMEZONE
BEGIN:VEVENT
DTSTART;TZID=America/Vancouver:20260129T080000
DTEND;TZID=America/Vancouver:20260201T170000
DTSTAMP:20260425T121334
CREATED:20260124T180514Z
LAST-MODIFIED:20260124T180514Z
UID:29128-1769673600-1769965200@www.exploresidney.ca
SUMMARY:Where Have All The Buffalo Gone? Performance
DESCRIPTION:Kaleidoscope Theatre for Young People is proud to present: Axis Theatre’s Touring Production of “Where Have All The Buffalo Gone?” By Tai Amy Grauman. \nWhere Have All The Buffalo Gone? is a powerful story inspired by Historical Events of the Metis People of Canada and is coming to Sidney for ONLY SIX performances! \nThis show is running January 29 – February 1\, 2026 at the Charlie White Theatre in the Mary Winspear Centre. \nShow Times:\nThursday\, January 29 – 10am and 12:30pm\nFriday\, January 30 – 7pm\nSaturday\, January 31 – 2pm\nFriday\, February 1 – 11am and 2pm \nAbout the Show:\nTwo star people and a Buffalo\, fall to earth and continue to reconnect throughout history. Where Have All The Buffalo Gone? explores seven different periods of Métis history\, beginning during creation amongst the stars and ending in the present day\, sharing stories from the Callihoo family\, and incorporating fiddle music\, jigging and a life-size buffalo puppet. Inspired by historical events of the Métis people of Canada. This original play for young audiences explores the loves\, the losses\, and the fight of Métis people of the Treaty 6 area – and their love and kinship to the buffalo. \nAge Recommendation: 10+\nRunning Time: 50 Minutes with No Intermission
URL:https://www.exploresidney.ca/event/where-have-all-the-buffalo-gone-performance/
LOCATION:Mary Winspear Centre\, 2243 Beacon Avenue\, Sidney\, British Columbia\, V8L 1W9\, Canada
ATTACH;FMTTYPE=image/png:https://www.exploresidney.ca/wp-content/uploads/2026/01/KTYP-Buffalo-Instagram.png
ORGANIZER;CN="Kaleidoscope Theatre for Young People":MAILTO:admin@kaleidoscope.bc.ca
END:VEVENT
BEGIN:VEVENT
DTSTART;TZID=America/Vancouver:20260214T180000
DTEND;TZID=America/Vancouver:20260214T200000
DTSTAMP:20260425T121334
CREATED:20260210T174803Z
LAST-MODIFIED:20260210T174803Z
UID:29167-1771092000-1771099200@www.exploresidney.ca
SUMMARY:It's Lit: Romantasy Trivia @ Small Gods
DESCRIPTION:Calling all romantasy readers! Join us at Small Gods Brewing for a special Valentine’s Day edition of “It’s Lit.” Romantasy—romance novels set in fantastical worlds—is the fastest-growing literary genre of the decade. Our 2nd Annual Romanatasy Trivia will be organized by creature type this year\, featuring one round each for dragons\, fey/fae/faeries\, vampires & werewolves\, and other creatures of the dark. \n$10 per team registration (You will be emailed to confirm the size of your team)\n$6 beers all night & Prizes for the winning team + best costume \nWhether you’re Team Rhysand or Team Aidas\, there’s a seat at our table for you. \n❤️ When: Saturday\, February 14th\, 6-8PM \n📍 Where: Small Gods Brewing Co.\, 9835 Third St. \nSpace is limited – register your team HERE. \n*Romantasy: Where romance meets fantasy\, and magic meets the heart. \n**Minors allowed\, but all teams must have at least one responsible adult (19+ years old) during the entire duration of the event.
URL:https://www.exploresidney.ca/event/its-lit-romantasy-trivia-small-gods/
LOCATION:Small Gods Brewing Co.\, 9835 third st\, sidney\, v8l 3a7\, Canada
ATTACH;FMTTYPE=image/png:https://www.exploresidney.ca/wp-content/uploads/2026/01/Screenshot-2026-01-25-5.21.40-PM.png
ORGANIZER;CN="Small Gods Brewing Co.":MAILTO:hello@smallgods.ca
END:VEVENT
END:VCALENDAR