BEGIN:VCALENDAR
VERSION:2.0
PRODID:-//Sidney BIA - ECPv6.15.20//NONSGML v1.0//EN
CALSCALE:GREGORIAN
METHOD:PUBLISH
X-ORIGINAL-URL:https://www.exploresidney.ca
X-WR-CALDESC:Events for Sidney BIA
REFRESH-INTERVAL;VALUE=DURATION:PT1H
X-Robots-Tag:noindex
X-PUBLISHED-TTL:PT1H
BEGIN:VTIMEZONE
TZID:America/Vancouver
BEGIN:DAYLIGHT
TZOFFSETFROM:-0800
TZOFFSETTO:-0700
TZNAME:PDT
DTSTART:20250309T100000
END:DAYLIGHT
BEGIN:STANDARD
TZOFFSETFROM:-0700
TZOFFSETTO:-0800
TZNAME:PST
DTSTART:20251102T090000
END:STANDARD
BEGIN:DAYLIGHT
TZOFFSETFROM:-0800
TZOFFSETTO:-0700
TZNAME:PDT
DTSTART:20260308T100000
END:DAYLIGHT
BEGIN:STANDARD
TZOFFSETFROM:-0700
TZOFFSETTO:-0800
TZNAME:PST
DTSTART:20261101T090000
END:STANDARD
BEGIN:DAYLIGHT
TZOFFSETFROM:-0800
TZOFFSETTO:-0700
TZNAME:PDT
DTSTART:20270314T100000
END:DAYLIGHT
BEGIN:STANDARD
TZOFFSETFROM:-0700
TZOFFSETTO:-0800
TZNAME:PST
DTSTART:20271107T090000
END:STANDARD
END:VTIMEZONE
BEGIN:VEVENT
DTSTART;TZID=America/Vancouver:20260307T150000
DTEND;TZID=America/Vancouver:20260307T170000
DTSTAMP:20260424T070546
CREATED:20260228T203044Z
LAST-MODIFIED:20260228T203044Z
UID:29611-1772895600-1772902800@www.exploresidney.ca
SUMMARY:Community Photo in Support of Local Primary Care @ Centennial Park
DESCRIPTION:📸 Come for the Fun. Be in the Photo. Help Us Finish Strong! \nOn Saturday\, March 7\, join Shoreline Medical Society from 3:00–5:00 p.m.\, with a community photo at 3:30 p.m. Enjoy an inflatable obstacle course\, glitter tattoos\, games\, a physician-led trail walk\, and a community BBQ by the Central Saanich Lions. 🐾 \nTogether\, we’ll send a clear message: our community is ready to step up for primary care. From complex health needs to youth mental health and the everyday care that keeps us well\, we show up for each other and we’re part of the solution. \nAll are welcome and attendance is free. Donations sincerely appreciated at the event or at shorelinemedical.ca/donate (tax receipts issued). 💛 \nEvery dollar raised will sustain and expand vital services for youth\, strengthen team-based care\, recruit and retain providers\, and expand clinic space\, including feasibility work for a potential third primary care clinic that could attach thousands more residents to care. We’re over 80% of the way to our $500\,000 goal. Showing up for the photo and donating will help us finish the job!
URL:https://www.exploresidney.ca/event/community-photo-in-support-of-local-primary-care-centennial-park/
LOCATION:Centennial Park\, 1800 Hovey Rd\, Central Saanich\, British Columbia
ATTACH;FMTTYPE=image/jpeg:https://www.exploresidney.ca/wp-content/uploads/2026/02/obstacle-course.jpg
ORGANIZER;CN="Shoreline Medical Society":MAILTO:development@shorelinemedical.ca
END:VEVENT
BEGIN:VEVENT
DTSTART;TZID=America/Vancouver:20260313T170000
DTEND;TZID=America/Vancouver:20260314T170000
DTSTAMP:20260424T070546
CREATED:20260201T205907Z
LAST-MODIFIED:20260201T205907Z
UID:29186-1773421200-1773507600@www.exploresidney.ca
SUMMARY:Crafted Farmhouse Market
DESCRIPTION:🎨 Join us at the Mary Winspear Centre in Sidney\, BC on March 13 + 14 for a weekend of handcrafted treasures\, delicious eats\, live music\, and youth entrepreneurs! With 60+ vendors offering unique jewelry\, artisanal decor\, and gourmet treats\, it’s a vibrant celebration of creativity and community. Bring your friends and family for an inspiring and charming experience. \nMary Winspear Centre\, 2243 Beacon Ave Sidney BC \nFriday March 13 ~ 5-9pm\nSaturday March 14 ~ 10am-5pm \n$5 Cash admission\, kids 12 and under free
URL:https://www.exploresidney.ca/event/crafted-farmhouse-market-8/
LOCATION:Mary Winspear Centre\, 2243 Beacon Avenue\, Sidney\, British Columbia\, V8L 1W9\, Canada
ATTACH;FMTTYPE=image/jpeg:https://www.exploresidney.ca/wp-content/uploads/2026/01/marketphoto7.jpg
ORGANIZER;CN="Crafted Farmhouse Market":MAILTO:craftedfarmhousemarket@hotmail.com
END:VEVENT
BEGIN:VEVENT
DTSTART;TZID=America/Vancouver:20260330T114500
DTEND;TZID=America/Vancouver:20260330T130000
DTSTAMP:20260424T070546
CREATED:20260321T180326Z
LAST-MODIFIED:20260321T180326Z
UID:29850-1774871100-1774875600@www.exploresidney.ca
SUMMARY:Piano Heist: The Big Screen Premiere at Star Cinema
DESCRIPTION:Vancouver Island Piano Duo Comes to the Big Screen\nFilm Premiere of The 88th Key Blends Cinema\, Concert\, and Conversation in Sidney \nSIDNEY\, BC — March 30\, 2026 — The electrifying stage chemistry of the Vancouver Island based piano duo: Piano Heist is heading to the silver screen. On March 30\, audiences and fans will gather at Star Cinema for the cinematic premiere of The 88th Key\, an hilarious\, fun-filled action film by local filmmaker Patrick Schörle that captures the brilliant humour\, energy\, behind the duo’s dynamic performances\, set in a fantastical and exciting story of musical redemption. \nFeaturing acclaimed pianists Nico Rhodes and Patrick Courtin\, The 88th Key will entertain viewers with a high energy heist storyline in a wild and fun imaginary world where Piano Heist attempts to restore the music world order by liberating the mystical 88th Key of the piano. An exciting plot inspired by their show “Keys are the Champions” with over 160 performances across North America. Known for their virtuosic playing\, comedic timing\, and genre-spanning musical adventures\, the duo has built a devoted following across Canada — and now their story arrives on the big screen. \nBut this is more than a movie event. Rhodes and Courtin will perform a thrilling live mini-concert post-screening\, bringing their signature musical fireworks directly to the stage. The event will conclude with a lively talk and audience Q&A\, where the filmmakers and musicians will share stories from the making of The 88th Key and the evolution of Piano Heist’s high-energy performances. \nPart film premiere\, part concert\, and part behind-the-scenes conversation\, the March 30 event promises to be a one-night celebration of music\, storytelling\, and local creative talent. \nEvent Details\nWhat: Premiere screening of The 88th Key\nWhen: March 30\, 2026 (2 shows options) 11:45am \nWhere: Star Cinema 9840 Third St\, Sidney\, BC V8L 3A7 (250) 655-3384\nFeaturing: Film screening\, live performance\, and talkback with Piano Heist\, Nico Rhodes & Patrick Courtin \nTickets and event details: \nwww.pianoheist.com \nMedia Contact:\nPatrick Schörle: 250-818-2367 \nfractalfxproductions@gmail.com
URL:https://www.exploresidney.ca/event/piano-heist-the-big-screen-premiere-at-star-cinema/
LOCATION:Star Cinema\, 9840 Third Street\, Sidney\, V8L 3A7
ATTACH;FMTTYPE=image/jpeg:https://www.exploresidney.ca/wp-content/uploads/2026/03/FB-SIDNEY-event.jpg
ORGANIZER;CN="Patrick Schorle":MAILTO:fractalfxproductions@gmail.com
END:VEVENT
END:VCALENDAR